BEGIN:VCALENDAR
VERSION:2.0
PRODID:-//Põhja-Järva Kool - ECPv6.15.18//NONSGML v1.0//EN
CALSCALE:GREGORIAN
METHOD:PUBLISH
X-ORIGINAL-URL:https://pohjajarvakool.ee
X-WR-CALDESC:Events for Põhja-Järva Kool
REFRESH-INTERVAL;VALUE=DURATION:PT1H
X-Robots-Tag:noindex
X-PUBLISHED-TTL:PT1H
BEGIN:VTIMEZONE
TZID:Europe/Tallinn
BEGIN:DAYLIGHT
TZOFFSETFROM:+0200
TZOFFSETTO:+0300
TZNAME:EEST
DTSTART:20240331T010000
END:DAYLIGHT
BEGIN:STANDARD
TZOFFSETFROM:+0300
TZOFFSETTO:+0200
TZNAME:EET
DTSTART:20241027T010000
END:STANDARD
BEGIN:DAYLIGHT
TZOFFSETFROM:+0200
TZOFFSETTO:+0300
TZNAME:EEST
DTSTART:20250330T010000
END:DAYLIGHT
BEGIN:STANDARD
TZOFFSETFROM:+0300
TZOFFSETTO:+0200
TZNAME:EET
DTSTART:20251026T010000
END:STANDARD
BEGIN:DAYLIGHT
TZOFFSETFROM:+0200
TZOFFSETTO:+0300
TZNAME:EEST
DTSTART:20260329T010000
END:DAYLIGHT
BEGIN:STANDARD
TZOFFSETFROM:+0300
TZOFFSETTO:+0200
TZNAME:EET
DTSTART:20261025T010000
END:STANDARD
END:VTIMEZONE
BEGIN:VEVENT
DTSTART;TZID=Europe/Tallinn:20250605T000000
DTEND;TZID=Europe/Tallinn:20250605T000000
DTSTAMP:20260422T044803
CREATED:20250530T110312Z
LAST-MODIFIED:20250530T110705Z
UID:3897-1749081600-1749081600@pohjajarvakool.ee
SUMMARY:Kooliöö
DESCRIPTION:05.06 kooliöö
URL:https://pohjajarvakool.ee/sundmus/koolioo/
LOCATION:Ambla kool
CATEGORIES:Ambla kool
END:VEVENT
BEGIN:VEVENT
DTSTART;TZID=Europe/Tallinn:20250605T080000
DTEND;TZID=Europe/Tallinn:20250605T170000
DTSTAMP:20260422T044803
CREATED:20250512T092017Z
LAST-MODIFIED:20250512T092017Z
UID:3832-1749110400-1749142800@pohjajarvakool.ee
SUMMARY:"Oma klassi" päev
DESCRIPTION:
URL:https://pohjajarvakool.ee/sundmus/oma-klassi-paev/
LOCATION:Aravete kool
CATEGORIES:Aravete kool
END:VEVENT
BEGIN:VEVENT
DTSTART;TZID=Europe/Tallinn:20250606T000000
DTEND;TZID=Europe/Tallinn:20250606T000000
DTSTAMP:20260422T044803
CREATED:20250530T110539Z
LAST-MODIFIED:20250530T110539Z
UID:3899-1749168000-1749168000@pohjajarvakool.ee
SUMMARY:Õppeaastat lõpetav aktus
DESCRIPTION:06.06 kooliaasta lõpetamine
URL:https://pohjajarvakool.ee/sundmus/oppeaastat-lopetav-aktus/
LOCATION:Ambla kool
CATEGORIES:Ambla kool
END:VEVENT
BEGIN:VEVENT
DTSTART;TZID=Europe/Tallinn:20250606T090000
DTEND;TZID=Europe/Tallinn:20250606T130000
DTSTAMP:20260422T044803
CREATED:20250512T092125Z
LAST-MODIFIED:20250512T093419Z
UID:3834-1749200400-1749214800@pohjajarvakool.ee
SUMMARY:Üleminekuklasside aktus
DESCRIPTION:-8. klasside õppeaastat lõpetav aktus algusega 9.00
URL:https://pohjajarvakool.ee/sundmus/uleminekuklasside-aktus/
LOCATION:Aravete kool
CATEGORIES:Aravete kool
END:VEVENT
BEGIN:VEVENT
DTSTART;TZID=Europe/Tallinn:20250606T110000
DTEND;TZID=Europe/Tallinn:20250606T140000
DTSTAMP:20260422T044803
CREATED:20250520T075400Z
LAST-MODIFIED:20250520T075400Z
UID:3864-1749207600-1749218400@pohjajarvakool.ee
SUMMARY:Õppeaasta lõpuaktus
DESCRIPTION:Õppeaastat kokkuvõttev lõpuaktus.
URL:https://pohjajarvakool.ee/sundmus/oppeaasta-lopuaktus/
LOCATION:Albu kool
CATEGORIES:Albu kool
END:VEVENT
BEGIN:VEVENT
DTSTART;TZID=Europe/Tallinn:20250606T160000
DTEND;TZID=Europe/Tallinn:20250606T183000
DTSTAMP:20260422T044803
CREATED:20250512T092318Z
LAST-MODIFIED:20250512T093333Z
UID:3837-1749225600-1749234600@pohjajarvakool.ee
SUMMARY:9. klassi lõpuaktus
DESCRIPTION:
URL:https://pohjajarvakool.ee/sundmus/9-klassi-lopuaktus/
LOCATION:Aravete kool
CATEGORIES:Aravete kool
END:VEVENT
BEGIN:VEVENT
DTSTART;TZID=Europe/Tallinn:20250613T160000
DTEND;TZID=Europe/Tallinn:20250613T190000
DTSTAMP:20260422T044803
CREATED:20250520T075602Z
LAST-MODIFIED:20250520T075602Z
UID:3866-1749830400-1749841200@pohjajarvakool.ee
SUMMARY:9. klassi lõpuaktus
DESCRIPTION:
URL:https://pohjajarvakool.ee/sundmus/9-klassi-lopuaktus-2/
LOCATION:Albu kool
CATEGORIES:Albu kool
END:VEVENT
END:VCALENDAR