BEGIN:VCALENDAR
VERSION:2.0
PRODID:-//Põhja-Järva Kool - ECPv6.15.18//NONSGML v1.0//EN
CALSCALE:GREGORIAN
METHOD:PUBLISH
X-WR-CALNAME:Põhja-Järva Kool
X-ORIGINAL-URL:https://pohjajarvakool.ee
X-WR-CALDESC:Events for Põhja-Järva Kool
REFRESH-INTERVAL;VALUE=DURATION:PT1H
X-Robots-Tag:noindex
X-PUBLISHED-TTL:PT1H
BEGIN:VTIMEZONE
TZID:Europe/Tallinn
BEGIN:DAYLIGHT
TZOFFSETFROM:+0200
TZOFFSETTO:+0300
TZNAME:EEST
DTSTART:20240331T010000
END:DAYLIGHT
BEGIN:STANDARD
TZOFFSETFROM:+0300
TZOFFSETTO:+0200
TZNAME:EET
DTSTART:20241027T010000
END:STANDARD
BEGIN:DAYLIGHT
TZOFFSETFROM:+0200
TZOFFSETTO:+0300
TZNAME:EEST
DTSTART:20250330T010000
END:DAYLIGHT
BEGIN:STANDARD
TZOFFSETFROM:+0300
TZOFFSETTO:+0200
TZNAME:EET
DTSTART:20251026T010000
END:STANDARD
BEGIN:DAYLIGHT
TZOFFSETFROM:+0200
TZOFFSETTO:+0300
TZNAME:EEST
DTSTART:20260329T010000
END:DAYLIGHT
BEGIN:STANDARD
TZOFFSETFROM:+0300
TZOFFSETTO:+0200
TZNAME:EET
DTSTART:20261025T010000
END:STANDARD
END:VTIMEZONE
BEGIN:VEVENT
DTSTART;TZID=Europe/Tallinn:20250505T100000
DTEND;TZID=Europe/Tallinn:20250505T120000
DTSTAMP:20260422T061304
CREATED:20250421T051707Z
LAST-MODIFIED:20250421T092823Z
UID:3757-1746439200-1746446400@pohjajarvakool.ee
SUMMARY:Albu kooli tutvumispäev
DESCRIPTION:Tulevane koolilaps ja lapsevanem! \nOotame teid Albu kooli tutvumispäevale 5. mail kell 10.00-12.00.
URL:https://pohjajarvakool.ee/sundmus/albu-kooli-tutvumispaev/
LOCATION:Albu kool
CATEGORIES:Albu kool
ATTACH;FMTTYPE=image/png:https://pohjajarvakool.ee/wp-content/uploads/2025/04/Tere-kool.png
END:VEVENT
BEGIN:VEVENT
DTSTART;TZID=Europe/Tallinn:20250508T180000
DTEND;TZID=Europe/Tallinn:20250508T190000
DTSTAMP:20260422T061304
CREATED:20250326T140801Z
LAST-MODIFIED:20250326T141244Z
UID:3633-1746727200-1746730800@pohjajarvakool.ee
SUMMARY:Kevadkontsert
DESCRIPTION:Ootame teid\, kallid emad ja vanaemad\, Aravete kooli aulasse  8. mail kell 18.00 \nEsinevad meie kooli õpilased.
URL:https://pohjajarvakool.ee/sundmus/kevadkontsert/
LOCATION:Aravete kool
CATEGORIES:Aravete kool
ATTACH;FMTTYPE=image/jpeg:https://pohjajarvakool.ee/wp-content/uploads/2025/03/kevadkontsert.jpg
END:VEVENT
BEGIN:VEVENT
DTSTART;TZID=Europe/Tallinn:20250509T170000
DTEND;TZID=Europe/Tallinn:20250509T190000
DTSTAMP:20260422T061304
CREATED:20250325T124035Z
LAST-MODIFIED:20250506T065318Z
UID:3616-1746810000-1746817200@pohjajarvakool.ee
SUMMARY:Emadepäevale pühendatud kevadkontsert
DESCRIPTION:Armsad\, emad ja vanaemad! Soovime just teile pühendada oma kevadkontserdi. Ootame teid väga kuulama\, vaatama ning nautima meie kaunist tantsu\, laulu ja pillimängu. Loomulikult on oodatud ka kõik isad\, õed-vennad\, sõbrad ja sugulased. \nRiietus: pidulik riietus ja esinemisrõivad. \nKoolitransport: kõik õpilased lähevad koju 14.40 bussiga. Tagasi tulevad koolibussi teise ringiga.\nAhula (lasteaed) 15:35\, Seidla 15:37\, Kaalepi 15:40\, Järva- Madise 15:43\, Ravaotsa 15:46\, Otsa 15.48\, Albu Rahvamaja 16.00. Kes soovib võib tulla vanematega.\nValla auto sõidab tavapärase graafikuga. Kes vajavad autot kontserdile tulekuks andke palun teada õpj Tiiale.\nPeale kontserti läheb buss tagasi koju 18.30
URL:https://pohjajarvakool.ee/sundmus/emadepaevale-puhendatud-kevadkontsert/
LOCATION:Albu rahvamaja
CATEGORIES:Albu kool
ATTACH;FMTTYPE=image/png:https://pohjajarvakool.ee/wp-content/uploads/2025/03/EMADEPAEVA-KEVADKONTSERT.png
END:VEVENT
BEGIN:VEVENT
DTSTART;TZID=Europe/Tallinn:20250514T090000
DTEND;TZID=Europe/Tallinn:20250514T143000
DTSTAMP:20260422T061304
CREATED:20250512T091057Z
LAST-MODIFIED:20250512T091057Z
UID:3828-1747213200-1747233000@pohjajarvakool.ee
SUMMARY:Planetaarium (1.-5. klass)
DESCRIPTION:
URL:https://pohjajarvakool.ee/sundmus/planetaarium-1-5-klass/
LOCATION:Aravete kool
CATEGORIES:Aravete kool
END:VEVENT
BEGIN:VEVENT
DTSTART;TZID=Europe/Tallinn:20250516T080000
DTEND;TZID=Europe/Tallinn:20250516T143000
DTSTAMP:20260422T061304
CREATED:20250512T085500Z
LAST-MODIFIED:20250512T085500Z
UID:3824-1747382400-1747405800@pohjajarvakool.ee
SUMMARY:LHV maijooksu virtuaaljooks (1.-4. klass)
DESCRIPTION:
URL:https://pohjajarvakool.ee/sundmus/lhv-maijooksu-virtuaaljooks-1-4-klass/
LOCATION:Aravete kool
CATEGORIES:Aravete kool
END:VEVENT
BEGIN:VEVENT
DTSTART;TZID=Europe/Tallinn:20250519T080000
DTEND;TZID=Europe/Tallinn:20250523T143000
DTSTAMP:20260422T061304
CREATED:20250512T085204Z
LAST-MODIFIED:20250512T085401Z
UID:3821-1747641600-1748010600@pohjajarvakool.ee
SUMMARY:Õpilase varjutamise nädal
DESCRIPTION:
URL:https://pohjajarvakool.ee/sundmus/opilase-varjutamise-nadal/
LOCATION:Aravete kool
CATEGORIES:Aravete kool
ATTACH;FMTTYPE=image/jpeg:https://pohjajarvakool.ee/wp-content/uploads/2025/05/varjutamine.jpg
END:VEVENT
BEGIN:VEVENT
DTSTART;TZID=Europe/Tallinn:20250520T090000
DTEND;TZID=Europe/Tallinn:20250520T110000
DTSTAMP:20260422T061304
CREATED:20250501T170721Z
LAST-MODIFIED:20250512T075751Z
UID:3785-1747731600-1747738800@pohjajarvakool.ee
SUMMARY:Aravete kooli tutvumispäev
DESCRIPTION:
URL:https://pohjajarvakool.ee/sundmus/aravete-kooli-tutvumispaev/
LOCATION:Aravete kool
CATEGORIES:Ambla kool,Aravete kool
ATTACH;FMTTYPE=image/png:https://pohjajarvakool.ee/wp-content/uploads/2025/05/tutvumispaev.png
END:VEVENT
BEGIN:VEVENT
DTSTART;TZID=Europe/Tallinn:20250523T090000
DTEND;TZID=Europe/Tallinn:20250523T130000
DTSTAMP:20260422T061304
CREATED:20250520T073901Z
LAST-MODIFIED:20250520T073901Z
UID:3857-1747990800-1748005200@pohjajarvakool.ee
SUMMARY:Põhja-Järva Kooli algklasside spordipäev
DESCRIPTION:Põhja-Järva Kooli algklasside ühine spordipäev Aravetel.
URL:https://pohjajarvakool.ee/sundmus/pohja-jarva-kooli-algklasside-spordipaev-2/
LOCATION:Aravete kool
CATEGORIES:Albu kool
END:VEVENT
BEGIN:VEVENT
DTSTART;TZID=Europe/Tallinn:20250523T090000
DTEND;TZID=Europe/Tallinn:20250523T143000
DTSTAMP:20260422T061304
CREATED:20250512T085545Z
LAST-MODIFIED:20250512T085558Z
UID:3826-1747990800-1748010600@pohjajarvakool.ee
SUMMARY:Põhja-Järva kooli algklasside spordipäev
DESCRIPTION:
URL:https://pohjajarvakool.ee/sundmus/pohja-jarva-kooli-algklasside-spordipaev/
LOCATION:Aravete kool
CATEGORIES:Aravete kool
END:VEVENT
BEGIN:VEVENT
DTSTART;TZID=Europe/Tallinn:20250529T180000
DTEND;TZID=Europe/Tallinn:20250529T193000
DTSTAMP:20260422T061304
CREATED:20250402T060522Z
LAST-MODIFIED:20250402T060522Z
UID:3748-1748541600-1748547000@pohjajarvakool.ee
SUMMARY:Kevadkontsert
DESCRIPTION:29. mai 18.00 – kevadkontsert
URL:https://pohjajarvakool.ee/sundmus/kevadkontsert-2/
LOCATION:Ambla kool
CATEGORIES:Ambla kool
END:VEVENT
BEGIN:VEVENT
DTSTART;TZID=Europe/Tallinn:20250530T080000
DTEND;TZID=Europe/Tallinn:20250530T143000
DTSTAMP:20260422T061304
CREATED:20250512T091907Z
LAST-MODIFIED:20250512T122455Z
UID:3830-1748592000-1748615400@pohjajarvakool.ee
SUMMARY:9. klassi tutipäev 
DESCRIPTION:
URL:https://pohjajarvakool.ee/sundmus/9-klassi-tutipaev/
LOCATION:Aravete kool
CATEGORIES:Aravete kool
END:VEVENT
BEGIN:VEVENT
DTSTART;TZID=Europe/Tallinn:20250530T083000
DTEND;TZID=Europe/Tallinn:20250530T120000
DTSTAMP:20260422T061304
CREATED:20250520T075017Z
LAST-MODIFIED:20250528T093828Z
UID:3860-1748593800-1748606400@pohjajarvakool.ee
SUMMARY:9. klassi tutipidu
DESCRIPTION:Saadame viimase koolikellaga teele 9. klassi. \nAlustame päeva kell 8.30 ühise aktusega kooli saalis. Seejärel kontrollivad 8. klassi õpilased üheksandike valmisolekut järgnevaks eluetapiks. Toimub ka veel viimane tund oma esimese klassijuhatajaga.
URL:https://pohjajarvakool.ee/sundmus/9-klassi-tutipidu/
LOCATION:Albu kool
CATEGORIES:Albu kool
ATTACH;FMTTYPE=image/png:https://pohjajarvakool.ee/wp-content/uploads/2025/05/lopukell.png
END:VEVENT
BEGIN:VEVENT
DTSTART;TZID=Europe/Tallinn:20250530T083000
DTEND;TZID=Europe/Tallinn:20250530T150000
DTSTAMP:20260422T061304
CREATED:20250402T060749Z
LAST-MODIFIED:20250530T111009Z
UID:3750-1748593800-1748617200@pohjajarvakool.ee
SUMMARY:Talupäev
DESCRIPTION:30. mai – talupäev Järva-Jaanis – Mürkali robotlauda ja Vanatehnika varjupaiga külastamine.
URL:https://pohjajarvakool.ee/sundmus/talupaev/
LOCATION:Ambla kool
CATEGORIES:Ambla kool
END:VEVENT
BEGIN:VEVENT
DTSTART;TZID=Europe/Tallinn:20250530T100000
DTEND;TZID=Europe/Tallinn:20250530T130000
DTSTAMP:20260422T061304
CREATED:20250520T075128Z
LAST-MODIFIED:20250528T123230Z
UID:3862-1748599200-1748610000@pohjajarvakool.ee
SUMMARY:Spordipäev
DESCRIPTION:Kooli spordipäev mänguliste ja sportlike tegevustega. Saab mängida kogu kooliperega kulli\, ja võistelda pargijooksus\, nautida ja tunda rõõmu üheskoos kiiksuga võistlustest. Võimalik on näidata igapäevaselt harjutatud oskusi erinevatel aladel 🙂\nKoolibuss läheb kell 13.30
URL:https://pohjajarvakool.ee/sundmus/spordipaev/
LOCATION:Albu kool
CATEGORIES:Albu kool
ATTACH;FMTTYPE=image/png:https://pohjajarvakool.ee/wp-content/uploads/2025/05/spordipaev.png
END:VEVENT
END:VCALENDAR