BEGIN:VCALENDAR
VERSION:2.0
PRODID:-//Põhja-Järva Kool - ECPv6.15.18//NONSGML v1.0//EN
CALSCALE:GREGORIAN
METHOD:PUBLISH
X-WR-CALNAME:Põhja-Järva Kool
X-ORIGINAL-URL:https://pohjajarvakool.ee
X-WR-CALDESC:Events for Põhja-Järva Kool
REFRESH-INTERVAL;VALUE=DURATION:PT1H
X-Robots-Tag:noindex
X-PUBLISHED-TTL:PT1H
BEGIN:VTIMEZONE
TZID:Europe/Tallinn
BEGIN:DAYLIGHT
TZOFFSETFROM:+0200
TZOFFSETTO:+0300
TZNAME:EEST
DTSTART:20240331T010000
END:DAYLIGHT
BEGIN:STANDARD
TZOFFSETFROM:+0300
TZOFFSETTO:+0200
TZNAME:EET
DTSTART:20241027T010000
END:STANDARD
BEGIN:DAYLIGHT
TZOFFSETFROM:+0200
TZOFFSETTO:+0300
TZNAME:EEST
DTSTART:20250330T010000
END:DAYLIGHT
BEGIN:STANDARD
TZOFFSETFROM:+0300
TZOFFSETTO:+0200
TZNAME:EET
DTSTART:20251026T010000
END:STANDARD
BEGIN:DAYLIGHT
TZOFFSETFROM:+0200
TZOFFSETTO:+0300
TZNAME:EEST
DTSTART:20260329T010000
END:DAYLIGHT
BEGIN:STANDARD
TZOFFSETFROM:+0300
TZOFFSETTO:+0200
TZNAME:EET
DTSTART:20261025T010000
END:STANDARD
END:VTIMEZONE
BEGIN:VEVENT
DTSTART;TZID=Europe/Tallinn:20250127T110000
DTEND;TZID=Europe/Tallinn:20250201T170000
DTSTAMP:20260422T105209
CREATED:20250113T130621Z
LAST-MODIFIED:20250115T094234Z
UID:3398-1737975600-1738429200@pohjajarvakool.ee
SUMMARY:Eesti kirjanduse pidunädal
DESCRIPTION:27. jaanuar – 1. veebruar 2025 peetakse kirjanik Anton Hansen Tammsaare sünnipaigas eesti kirjanduse pidunädalat. \nJärva valla eesti kirjanduse pidunädal \nKirjanduse pidunädala üritused  Albu koolis: \n27.01 Pidunädala kirjanduskonverents Koerus\, IX klass  \n28.01 Mõeldes Tammsaarele\, kirjanduslik mõtisklus ja ettelugemine VII-IX klass  \n29.01 Eesti raamatu aasta ja kirjanduse päeva tähistamine ettelugemisega V-VI kl kell 12:05–13:45 \n30.01 Eesti raamatu aasta ja kirjanduse päeva tähistamine Albu raamatukogus I-IV kl kell 08:20–09:05 \n31.01 Võistulugemine “Hansenist Tammsaareni” 
URL:https://pohjajarvakool.ee/sundmus/eesti-kirjanduse-pidunadal-2/
LOCATION:Albu kool
CATEGORIES:Albu kool
ATTACH;FMTTYPE=image/png:https://pohjajarvakool.ee/wp-content/uploads/2025/01/kirjanduse-pidunadal.png
END:VEVENT
BEGIN:VEVENT
DTSTART;TZID=Europe/Tallinn:20250203T100000
DTEND;TZID=Europe/Tallinn:20250207T150000
DTSTAMP:20260422T105209
CREATED:20250114T133141Z
LAST-MODIFIED:20250115T093210Z
UID:3426-1738576800-1738940400@pohjajarvakool.ee
SUMMARY:Maoteemaliste asjade näitus
DESCRIPTION:Ootame näitusele asju\, mis on maokujulised\, mao pildiga või mingil moel maoga seotud.
URL:https://pohjajarvakool.ee/sundmus/03-02-07-03-mao-teemaliste-asjade-naitus/
LOCATION:Aravete kool
CATEGORIES:Aravete kool
ATTACH;FMTTYPE=image/png:https://pohjajarvakool.ee/wp-content/uploads/2025/01/maonaitus.png
END:VEVENT
BEGIN:VEVENT
DTSTART;TZID=Europe/Tallinn:20250210T100000
DTEND;TZID=Europe/Tallinn:20250214T150000
DTSTAMP:20260422T105209
CREATED:20250114T134641Z
LAST-MODIFIED:20250114T145627Z
UID:3429-1739181600-1739545200@pohjajarvakool.ee
SUMMARY:Raadiote näitus
DESCRIPTION:Avame Aravete kooli sammassaalis 13. veebruaril\, rahvusvahelisel raadiopäeval\, raadiote näituse. \nKui Sul on kodus raadio\, mida sooviksid näidata\, siis too see kooli 10. veebruariks!
URL:https://pohjajarvakool.ee/sundmus/raadiote-naitus/
LOCATION:Aravete kool
CATEGORIES:Aravete kool
END:VEVENT
BEGIN:VEVENT
DTSTART;VALUE=DATE:20250211
DTEND;VALUE=DATE:20250212
DTSTAMP:20260422T105209
CREATED:20250205T075258Z
LAST-MODIFIED:20250205T075258Z
UID:3507-1739232000-1739318399@pohjajarvakool.ee
SUMMARY:Suusabuss Valgehobusemäel
DESCRIPTION:Eesti Suusaliidu “Suusabussi” projekt on 2024/2025 hooajal käigus juba üheksateistkümnendat hooaega. Suusabuss on lõbus\, õpetlik ja kasulik suusakoolituse projekt\, kus eriharidusega suusainstruktor koos spetsiaalselt varustatud kaubikuga käib koolides ja lasteaedades suusaõpet andmas. \nAlbu koolist osaleb projektis 2.-8. klass 11.03. 2025 Valgehobusemäel.
URL:https://pohjajarvakool.ee/sundmus/suusabuss-valgehobusemael/
CATEGORIES:Albu kool
END:VEVENT
BEGIN:VEVENT
DTSTART;TZID=Europe/Tallinn:20250213T104500
DTEND;TZID=Europe/Tallinn:20250213T113000
DTSTAMP:20260422T105209
CREATED:20250128T132336Z
LAST-MODIFIED:20250128T132336Z
UID:3473-1739443500-1739446200@pohjajarvakool.ee
SUMMARY:Külas ERR-i korrespondent Olev Kenk
DESCRIPTION:Rahvusvahelisel raadiopäeval 13. veebruaril kell 10:45–11:30 tuleb meile külla Järvamaa ERRi korrespondent Olev Kenk.  \nTa räägib oma tööst ja tegemistest\, näitab\, kuidas teha üht head ja informatiivset raadiointervjuud.
URL:https://pohjajarvakool.ee/sundmus/kulas-err-i-korrespondent-olev-kenk/
LOCATION:Aravete kool
CATEGORIES:Aravete kool
ATTACH;FMTTYPE=image/png:https://pohjajarvakool.ee/wp-content/uploads/2025/01/Kylaline_Kenk.png
END:VEVENT
BEGIN:VEVENT
DTSTART;VALUE=DATE:20250214
DTEND;VALUE=DATE:20250215
DTSTAMP:20260422T105209
CREATED:20250205T082311Z
LAST-MODIFIED:20250205T082311Z
UID:3509-1739491200-1739577599@pohjajarvakool.ee
SUMMARY:Sõbrapäev
DESCRIPTION:¤Albu kooli õpilasesindus avab sõbrapäeva kohviku. \n¤Fotoseina juures saab teha sõbrapilte. \n¤Jaotatakse kätte eelnevalt sõbrapäeva postkasti poetatud kaardid. \n¤Peale koolipäeva jätkub sõbrapäev Albu noortekeskuses sõbrapäeva discoga kell 14.00 – 18.00
URL:https://pohjajarvakool.ee/sundmus/sobrapaev-2/
LOCATION:Albu kool
CATEGORIES:Albu kool
END:VEVENT
BEGIN:VEVENT
DTSTART;TZID=Europe/Tallinn:20250214T080000
DTEND;TZID=Europe/Tallinn:20250214T150000
DTSTAMP:20260422T105209
CREATED:20250129T135336Z
LAST-MODIFIED:20250129T135336Z
UID:3479-1739520000-1739545200@pohjajarvakool.ee
SUMMARY:Sõbrapäev
DESCRIPTION:14.02 peame koos sõbrapäeva
URL:https://pohjajarvakool.ee/sundmus/sobrapaev/
LOCATION:Ambla kool
CATEGORIES:Ambla kool
END:VEVENT
BEGIN:VEVENT
DTSTART;TZID=Europe/Tallinn:20250214T123000
DTEND;TZID=Europe/Tallinn:20250214T150000
DTSTAMP:20260422T105209
CREATED:20250212T130833Z
LAST-MODIFIED:20250213T162719Z
UID:3540-1739536200-1739545200@pohjajarvakool.ee
SUMMARY:Sõbrapäeva disko
DESCRIPTION:Sõbrapäeva disko 1.-5. klass. \nSündmus ei puuduta tunniplaanis olevaid tunde. Iga klass liitub siis\, kui tunnid lõppevad.\nPäeva riietusstiil on punane ja roosa värv!
URL:https://pohjajarvakool.ee/sundmus/sobrapaeva-disko/
LOCATION:Aravete kool
CATEGORIES:Aravete kool
ATTACH;FMTTYPE=image/png:https://pohjajarvakool.ee/wp-content/uploads/2025/02/Yellow-and-Pink-Illustrative-Dance-Party-Poster.png
END:VEVENT
BEGIN:VEVENT
DTSTART;TZID=Europe/Tallinn:20250217T080000
DTEND;TZID=Europe/Tallinn:20250221T150000
DTSTAMP:20260422T105209
CREATED:20250203T094757Z
LAST-MODIFIED:20250203T094757Z
UID:3486-1739779200-1740150000@pohjajarvakool.ee
SUMMARY:Mõttespordi olümpiaadi III voor
DESCRIPTION:17.02-21.02  toimub mõttespordi olümpiaadi III voor.
URL:https://pohjajarvakool.ee/sundmus/mottespordi-olumpiaadi-iii-voor/
LOCATION:Ambla kool
CATEGORIES:Ambla kool
END:VEVENT
BEGIN:VEVENT
DTSTART;VALUE=DATE:20250219
DTEND;VALUE=DATE:20250220
DTSTAMP:20260422T105209
CREATED:20250205T074029Z
LAST-MODIFIED:20250205T114559Z
UID:3505-1739923200-1740009599@pohjajarvakool.ee
SUMMARY:Tööle kaasa päev
DESCRIPTION:Põhja-Järva Kool on liitunud Eesti Kaubandus-Tööstuskoja algatusega „Tööle kaasa!“\, millega kutsutakse tööandjaid\, lapsevanemaid ja koole koostöös looma lastele ja noortele tööeluga tutvumiseks uusi võimalusi. \nAlgatuse idee seisneb selles\, et 19. veebruaril 2025 kutsutakse üles Eesti tööandjaid avama oma uksed töötajate lastele\, et neil oleks võimalus vanemate töö ja töökeskkonnaga lähemalt tutvuda. Albu kool on otsustanud pakkuda võimalust 1.-8. klassi õpilastele \nProjektis osalev õpilane: \n-saab teadlikumaks töömaailmas toimuvast; \n-näeb ja saab teada\, mis on tema vanema igapäevatöö\, milline on tema tööpäev ja -keskkond\, töö sisu ja selle väärtus; \n-saab aru\, miks erinevad tööd on vajalikud ja et iga töö tegija on tähtis. \n“Tööle kaasa” päeva õpikogemuse mõtestamine toimub inimeseõpetuse aine raames. \n1.-4. klassil tuleb päeva kohta täita tööleht ning rääkida klassikaaslastele oma päevast \n5.-8. klassil tuleb teha päevast kokkuvõte (videoreportaaž\, slaidid\, vms) ning esitleda seda klassikaaslastele. \nTäpsemad tööjuhised saab aineõpetajalt ja/või klassijuhatajalt. \nPalun anna koolile oma osalusest ja ettevõtte nimest teada hiljemalt 17. veebruar.
URL:https://pohjajarvakool.ee/sundmus/toole-kaasa-paev/
LOCATION:Albu kool
CATEGORIES:Albu kool
END:VEVENT
BEGIN:VEVENT
DTSTART;VALUE=DATE:20250220
DTEND;VALUE=DATE:20250221
DTSTAMP:20260422T105209
CREATED:20250205T082646Z
LAST-MODIFIED:20250205T082646Z
UID:3519-1740009600-1740095999@pohjajarvakool.ee
SUMMARY:1.- 4. klass Endla teatris "Ükskord ühes paigas"
DESCRIPTION:1.-4. klass sõidavad Endla teatrisse vaatama etendust “Ükskord ühes paigas” \n 
URL:https://pohjajarvakool.ee/sundmus/1-4-klass-endla-teatris-ukskord-uhes-paigas/
CATEGORIES:Albu kool
END:VEVENT
BEGIN:VEVENT
DTSTART;TZID=Europe/Tallinn:20250220T080000
DTEND;TZID=Europe/Tallinn:20250220T150000
DTSTAMP:20260422T105209
CREATED:20250203T094859Z
LAST-MODIFIED:20250203T094859Z
UID:3488-1740038400-1740063600@pohjajarvakool.ee
SUMMARY:Suusapäev Tamsalus
DESCRIPTION:20.02 – suusapäev Tamsalus
URL:https://pohjajarvakool.ee/sundmus/suusapaev-tamsalus/
LOCATION:Ambla kool
CATEGORIES:Ambla kool
END:VEVENT
BEGIN:VEVENT
DTSTART;TZID=Europe/Tallinn:20250220T170000
DTEND;TZID=Europe/Tallinn:20250220T200000
DTSTAMP:20260422T105209
CREATED:20250212T131418Z
LAST-MODIFIED:20250212T145928Z
UID:3544-1740070800-1740081600@pohjajarvakool.ee
SUMMARY:Eesti Vabariigi 107. aastapäeva kontsert-aktus
DESCRIPTION:20. veebruaril toimub Aravete koolis Eesti Vabariigi 107. aastapäeva kontsert-aktus Põhja-Järva kooli 6.-9. klasside õpilastele ja õpetajatele  kell 17.00-20.00.
URL:https://pohjajarvakool.ee/sundmus/eesti-vabariigi-107-aastapaeva-kontsert-aktus/
LOCATION:Aravete kool
CATEGORIES:Aravete kool
END:VEVENT
BEGIN:VEVENT
DTSTART;VALUE=DATE:20250221
DTEND;VALUE=DATE:20250222
DTSTAMP:20260422T105209
CREATED:20250205T084727Z
LAST-MODIFIED:20250205T084727Z
UID:3525-1740096000-1740182399@pohjajarvakool.ee
SUMMARY:Eesti Vabariigi kontsert-aktus
DESCRIPTION:Eesti Vabariigi kontsert-aktus 1.-5. klassile Albu rahvamajas.
URL:https://pohjajarvakool.ee/sundmus/eesti-vabariigi-kontsert-aktus/
LOCATION:Albu rahvamaja
CATEGORIES:Albu kool
END:VEVENT
BEGIN:VEVENT
DTSTART;TZID=Europe/Tallinn:20250221T080000
DTEND;TZID=Europe/Tallinn:20250221T150000
DTSTAMP:20260422T105209
CREATED:20250203T095012Z
LAST-MODIFIED:20250203T095053Z
UID:3490-1740124800-1740150000@pohjajarvakool.ee
SUMMARY:Eesti Vabariigi aastapäeva tähistamine
DESCRIPTION:21.02 – Eesti Vabariigi aastapäeva tähistamine\, lillede ja küünalde viimine Vabadussõja ausamba juurde.
URL:https://pohjajarvakool.ee/sundmus/eesti-vabariigi-aastapaeva-tahistamine/
LOCATION:Ambla kool
CATEGORIES:Ambla kool
END:VEVENT
END:VCALENDAR