BEGIN:VCALENDAR
VERSION:2.0
PRODID:-//Põhja-Järva Kool - ECPv6.15.18//NONSGML v1.0//EN
CALSCALE:GREGORIAN
METHOD:PUBLISH
X-ORIGINAL-URL:https://pohjajarvakool.ee
X-WR-CALDESC:Events for Põhja-Järva Kool
REFRESH-INTERVAL;VALUE=DURATION:PT1H
X-Robots-Tag:noindex
X-PUBLISHED-TTL:PT1H
BEGIN:VTIMEZONE
TZID:Europe/Tallinn
BEGIN:DAYLIGHT
TZOFFSETFROM:+0200
TZOFFSETTO:+0300
TZNAME:EEST
DTSTART:20230326T010000
END:DAYLIGHT
BEGIN:STANDARD
TZOFFSETFROM:+0300
TZOFFSETTO:+0200
TZNAME:EET
DTSTART:20231029T010000
END:STANDARD
BEGIN:DAYLIGHT
TZOFFSETFROM:+0200
TZOFFSETTO:+0300
TZNAME:EEST
DTSTART:20240331T010000
END:DAYLIGHT
BEGIN:STANDARD
TZOFFSETFROM:+0300
TZOFFSETTO:+0200
TZNAME:EET
DTSTART:20241027T010000
END:STANDARD
BEGIN:DAYLIGHT
TZOFFSETFROM:+0200
TZOFFSETTO:+0300
TZNAME:EEST
DTSTART:20250330T010000
END:DAYLIGHT
BEGIN:STANDARD
TZOFFSETFROM:+0300
TZOFFSETTO:+0200
TZNAME:EET
DTSTART:20251026T010000
END:STANDARD
END:VTIMEZONE
BEGIN:VEVENT
DTSTART;TZID=Europe/Tallinn:20241001T121500
DTEND;TZID=Europe/Tallinn:20241001T121500
DTSTAMP:20260422T171541
CREATED:20240924T120944Z
LAST-MODIFIED:20240924T121016Z
UID:3049-1727784900-1727784900@pohjajarvakool.ee
SUMMARY:Muusikapäev Ambla Paulsenite radadel
DESCRIPTION:2. oktoobril möödub 220 aastat legendaarse Ambla pastori ja rahvusliku liikumise tegelase Alexander Lepold Paulseni (1804–1877) sünnist. Käesoleval aastal möödus 145 aastat tema lapselapsest muusikapedagoogi\, viiuldaja ja eesti rahvusliku viiulikoolkonna rajaja Johannes Paulseni (1879–1945) sünnist. \nMeie kultuuriloos oluliste teemade ja inimeste mälestuse hoidmiseks ning nooremale põlvkonnale edasiandmiseks toimub rahvusvahelisel muusikapäeval\, 1. oktoobril (teisipäeval) Ambla kirikus Paulsenite perekonnale pühendatud kultuuriloopäev.
URL:https://pohjajarvakool.ee/sundmus/muusikapaeva-ambla-paulsenite-radadel/
LOCATION:Ambla kirik
CATEGORIES:Ambla kool
END:VEVENT
BEGIN:VEVENT
DTSTART;TZID=Europe/Tallinn:20241002T080000
DTEND;TZID=Europe/Tallinn:20241002T160000
DTSTAMP:20260422T171541
CREATED:20240912T150333Z
LAST-MODIFIED:20240916T055147Z
UID:2938-1727856000-1727884800@pohjajarvakool.ee
SUMMARY:Hambabuss Aravete koolis
DESCRIPTION:
URL:https://pohjajarvakool.ee/sundmus/hambabuss-aravete-koolis/
LOCATION:Aravete kool
CATEGORIES:Aravete kool
END:VEVENT
BEGIN:VEVENT
DTSTART;TZID=Europe/Tallinn:20241002T180000
DTEND;TZID=Europe/Tallinn:20241002T193000
DTSTAMP:20260422T171541
CREATED:20240912T141931Z
LAST-MODIFIED:20240926T050317Z
UID:2934-1727892000-1727897400@pohjajarvakool.ee
SUMMARY:Aravete kooli lastevanemate koosolek
DESCRIPTION:Aravete kooli lastevanemate koosolek kooli aulas kell 18.00 \nTeemad: \n\neelmise õppeaasta kokkuvõte\,\nmeie kool arvudes\,\naset leidnud muudatused\,\nhuviringid meie koolis\,\naasta eesmärkide tutvustus\,\n ülevaade hoolekogu tööst.
URL:https://pohjajarvakool.ee/sundmus/aravete-kooli-lastevanemate-koosolek/
LOCATION:Aravete kool
CATEGORIES:Aravete kool
END:VEVENT
BEGIN:VEVENT
DTSTART;VALUE=DATE:20241003
DTEND;VALUE=DATE:20241004
DTSTAMP:20260422T171541
CREATED:20240917T083652Z
LAST-MODIFIED:20240917T083652Z
UID:3011-1727913600-1727999999@pohjajarvakool.ee
SUMMARY:Hambabuss Albu koolis
DESCRIPTION:
URL:https://pohjajarvakool.ee/sundmus/hambabuss-albu-koolis/
LOCATION:Albu kool
END:VEVENT
BEGIN:VEVENT
DTSTART;VALUE=DATE:20241004
DTEND;VALUE=DATE:20241005
DTSTAMP:20260422T171541
CREATED:20240912T142321Z
LAST-MODIFIED:20240912T142321Z
UID:2936-1728000000-1728086399@pohjajarvakool.ee
SUMMARY:Õpetajate päeva tähistamine
DESCRIPTION:
URL:https://pohjajarvakool.ee/sundmus/opetajate-paeva-tahistamine/
CATEGORIES:Aravete kool
END:VEVENT
BEGIN:VEVENT
DTSTART;VALUE=DATE:20241004
DTEND;VALUE=DATE:20241005
DTSTAMP:20260422T171541
CREATED:20240917T084354Z
LAST-MODIFIED:20240917T084354Z
UID:3013-1728000000-1728086399@pohjajarvakool.ee
SUMMARY:Õpetajate päeva tähistamine
DESCRIPTION:
URL:https://pohjajarvakool.ee/sundmus/opetajate-paeva-tahistamine-2/
LOCATION:Albu kool
CATEGORIES:Albu kool
END:VEVENT
BEGIN:VEVENT
DTSTART;TZID=Europe/Tallinn:20241004T080000
DTEND;TZID=Europe/Tallinn:20241004T130000
DTSTAMP:20260422T171541
CREATED:20240924T121204Z
LAST-MODIFIED:20240924T121204Z
UID:3054-1728028800-1728046800@pohjajarvakool.ee
SUMMARY:Ambla kooli õpetajate päeva tähistamine
DESCRIPTION:
URL:https://pohjajarvakool.ee/sundmus/ambla-kooli-opetajate-paeva-tahistamine/
LOCATION:Ambla kool
CATEGORIES:Ambla kool
END:VEVENT
BEGIN:VEVENT
DTSTART;TZID=Europe/Tallinn:20241007T080000
DTEND;TZID=Europe/Tallinn:20241007T150000
DTSTAMP:20260422T171541
CREATED:20240912T150516Z
LAST-MODIFIED:20240926T054514Z
UID:2940-1728288000-1728313200@pohjajarvakool.ee
SUMMARY:Pildistamine Aravete koolis
DESCRIPTION:Klasside pildistamine toimub 7. oktoobril\, fotograaf Silja Juursalu.
URL:https://pohjajarvakool.ee/sundmus/pildistamine-aravete-koolis/
LOCATION:Aravete kool
CATEGORIES:Aravete kool
END:VEVENT
BEGIN:VEVENT
DTSTART;TZID=Europe/Tallinn:20241007T103000
DTEND;TZID=Europe/Tallinn:20241007T150000
DTSTAMP:20260422T171541
CREATED:20240916T133007Z
LAST-MODIFIED:20240917T081249Z
UID:2997-1728297000-1728313200@pohjajarvakool.ee
SUMMARY:KIK õppekäik I-V klass
DESCRIPTION:KIK projekti raames toimub I-V klassi väljasõit Tallinna Loomaaeda\, kus õpilased osalevad õppeprogrammis “Loomad erinevates elukeskkondades”. Õppeprogramm algab umbes 30 minutit kestva loomaaia mänguga ja seejärel minnakse juhendajatega retkele erinevatesse elupaikadesse. \nVäljasõit kooli juurest kell 10.30.
URL:https://pohjajarvakool.ee/sundmus/kik-oppekaik-i-v-klass/
LOCATION:Albu kool
CATEGORIES:Albu kool
END:VEVENT
BEGIN:VEVENT
DTSTART;TZID=Europe/Tallinn:20241010T090000
DTEND;TZID=Europe/Tallinn:20241010T120000
DTSTAMP:20260422T171541
CREATED:20240924T121351Z
LAST-MODIFIED:20240924T121351Z
UID:3056-1728550800-1728561600@pohjajarvakool.ee
SUMMARY:Matkapäev - Aegviidu-Nelijärve
DESCRIPTION:Ambla kooli õpilaste matkapäev toimib 10. oktoobril.
URL:https://pohjajarvakool.ee/sundmus/matkapaev-aegviidu-nelijarve/
LOCATION:Ambla kool
CATEGORIES:Ambla kool
END:VEVENT
BEGIN:VEVENT
DTSTART;TZID=Europe/Tallinn:20241016T080000
DTEND;TZID=Europe/Tallinn:20241016T170000
DTSTAMP:20260422T171541
CREATED:20241008T124738Z
LAST-MODIFIED:20241008T135619Z
UID:3080-1729065600-1729098000@pohjajarvakool.ee
SUMMARY:Aravete kooli 7.-9. klass KIK väljasõidul
DESCRIPTION:KIK väljasõit viib Aravete kooli 7.-9. klassi õpilased 16. oktoobril Padise kloostrisse. \nÕpiprogrammideks on mesinduse töötuba või ürditöötuba \nKooli- ja lasteaiaõpetajale
URL:https://pohjajarvakool.ee/sundmus/aravete-kooli-7-9-klass-kik-valjasoidul/
CATEGORIES:Aravete kool
END:VEVENT
BEGIN:VEVENT
DTSTART;TZID=Europe/Tallinn:20241016T100000
DTEND;TZID=Europe/Tallinn:20241016T130000
DTSTAMP:20260422T171541
CREATED:20241008T124316Z
LAST-MODIFIED:20241008T135928Z
UID:3077-1729072800-1729083600@pohjajarvakool.ee
SUMMARY:Kratilood Aravete kultuurimajas
DESCRIPTION:Koolinoorte jutuvestmise konkurss\, kus hinnatakse lugude jutustamise säravaid esitlusi.
URL:https://pohjajarvakool.ee/sundmus/kratilood-aravete-kultuurimajas/
LOCATION:Aravete kultuurimaja
CATEGORIES:Aravete kool
ATTACH;FMTTYPE=image/jpeg:https://pohjajarvakool.ee/wp-content/uploads/2024/10/kratilood24.jpg
END:VEVENT
BEGIN:VEVENT
DTSTART;TZID=Europe/Tallinn:20241017T170000
DTEND;TZID=Europe/Tallinn:20241017T170000
DTSTAMP:20260422T171541
CREATED:20240917T084626Z
LAST-MODIFIED:20241016T072020Z
UID:3015-1729184400-1729184400@pohjajarvakool.ee
SUMMARY:Albu kooli sünnipäevakontsert
DESCRIPTION:Armsad lapsevanemad\n\n\n\nOlete oodatud Albu kooli 103. sünnipäevale pühendatud sügiskontserdile.\nSünnipäevale kohaselt valmistavad õpilased suure tordi\, mida sööme üheskoos peale kontserti.
URL:https://pohjajarvakool.ee/sundmus/albu-kooli-sunnipaevakontsert/
LOCATION:Albu kool
CATEGORIES:Albu kool
ATTACH;FMTTYPE=image/png:https://pohjajarvakool.ee/wp-content/uploads/2024/09/ALBU-KOOLI-SUGISKONTSERT.png
END:VEVENT
BEGIN:VEVENT
DTSTART;TZID=Europe/Tallinn:20241028T090000
DTEND;TZID=Europe/Tallinn:20241101T150000
DTSTAMP:20260422T171541
CREATED:20241008T124206Z
LAST-MODIFIED:20241031T142720Z
UID:3075-1730106000-1730473200@pohjajarvakool.ee
SUMMARY:Tore nädal
DESCRIPTION:28. oktoober – 1. november toimub Aravete koolis Tore nädal\n\n28.10. Tähistame koolis valla sünnipäeva.\n29.10. Tähistame kooli sünnipäeva.\n30.10. Uue esimese klassi tutvumise päev.\n31. 10. Kostümeeritud halloween.\n01.11. Tordipidu “Maitsev rahvakultuur”. Iga klass teeb endale tordi\, mida esitleb aulas 4. tunni ajal koos etteastega.
URL:https://pohjajarvakool.ee/sundmus/tore-nadal/
LOCATION:Aravete kool
CATEGORIES:Aravete kool
END:VEVENT
BEGIN:VEVENT
DTSTART;TZID=Europe/Tallinn:20241029T080000
DTEND;TZID=Europe/Tallinn:20241029T170000
DTSTAMP:20260422T171541
CREATED:20241008T135917Z
LAST-MODIFIED:20241008T140039Z
UID:3098-1730188800-1730221200@pohjajarvakool.ee
SUMMARY:Aravete kool PROTO avastustehases
DESCRIPTION:Aravete kooli 1.-3.klassi õpilased lähevad KIK projekti raames väljasõidule PROTO avastustehasesse. \nÕppeprogrammiks on „Leiutajaks sündinud“
URL:https://pohjajarvakool.ee/sundmus/aravete-kool-proto-avastustehases/
CATEGORIES:Aravete kool
END:VEVENT
BEGIN:VEVENT
DTSTART;TZID=Europe/Tallinn:20241030T080000
DTEND;TZID=Europe/Tallinn:20241030T111500
DTSTAMP:20260422T171541
CREATED:20241028T161641Z
LAST-MODIFIED:20241031T142639Z
UID:3210-1730275200-1730286900@pohjajarvakool.ee
SUMMARY:Peagi alustab Aravete koolis eelkool
DESCRIPTION:JÄÄB ÄRA! \nOotame tulevasi koolilapsi ja nende vanemaid tutvuma Põhja-Järva Kooli õppekohaga! \nAjakava: \n8.00-8.45 tervitame tulevasi esimese klassi õpilasi. \n8.55-9.40 lastel tund kooli tugispetsialistidega. Kooliküpsuse test. Vanematel vestlusring klassijuhatajaga. \n9.50-10.35 lastel tund klassijuhatajaga\, vanematel vestlusring tugispetsialistidega. \n10.45-11.00 vanematel veel võimalus vestelda klassijuhatajaga\, lastel aktiivne vahetund. Päeva lõpetamine. \n11.00-11.15 söömine. \nLastel ja vanematel palume kaasa võtta vahetusjalatsid! \nKaasa värvipliiatsid\, harilik pliiats ja kustutuskumm! \n 
URL:https://pohjajarvakool.ee/sundmus/peagi-alustab-aravete-koolis-eelkool/
LOCATION:Aravete kool
CATEGORIES:Aravete kool
ATTACH;FMTTYPE=image/jpeg:https://pohjajarvakool.ee/wp-content/uploads/2024/10/Eelkooli-kokkusaamine.jpg
END:VEVENT
BEGIN:VEVENT
DTSTART;TZID=Europe/Tallinn:20241031T000000
DTEND;TZID=Europe/Tallinn:20241031T000000
DTSTAMP:20260422T171541
CREATED:20240924T121459Z
LAST-MODIFIED:20240924T121525Z
UID:3058-1730332800-1730332800@pohjajarvakool.ee
SUMMARY:Kooliöö Ambla koolis
DESCRIPTION:
URL:https://pohjajarvakool.ee/sundmus/koolioo-ambla-koolis/
LOCATION:Ambla kool
CATEGORIES:Ambla kool
END:VEVENT
END:VCALENDAR