BEGIN:VCALENDAR
VERSION:2.0
PRODID:-//Põhja-Järva Kool - ECPv6.15.18//NONSGML v1.0//EN
CALSCALE:GREGORIAN
METHOD:PUBLISH
X-WR-CALNAME:Põhja-Järva Kool
X-ORIGINAL-URL:https://pohjajarvakool.ee
X-WR-CALDESC:Events for Põhja-Järva Kool
REFRESH-INTERVAL;VALUE=DURATION:PT1H
X-Robots-Tag:noindex
X-PUBLISHED-TTL:PT1H
BEGIN:VTIMEZONE
TZID:Europe/Tallinn
BEGIN:DAYLIGHT
TZOFFSETFROM:+0200
TZOFFSETTO:+0300
TZNAME:EEST
DTSTART:20230326T010000
END:DAYLIGHT
BEGIN:STANDARD
TZOFFSETFROM:+0300
TZOFFSETTO:+0200
TZNAME:EET
DTSTART:20231029T010000
END:STANDARD
BEGIN:DAYLIGHT
TZOFFSETFROM:+0200
TZOFFSETTO:+0300
TZNAME:EEST
DTSTART:20240331T010000
END:DAYLIGHT
BEGIN:STANDARD
TZOFFSETFROM:+0300
TZOFFSETTO:+0200
TZNAME:EET
DTSTART:20241027T010000
END:STANDARD
BEGIN:DAYLIGHT
TZOFFSETFROM:+0200
TZOFFSETTO:+0300
TZNAME:EEST
DTSTART:20250330T010000
END:DAYLIGHT
BEGIN:STANDARD
TZOFFSETFROM:+0300
TZOFFSETTO:+0200
TZNAME:EET
DTSTART:20251026T010000
END:STANDARD
END:VTIMEZONE
BEGIN:VEVENT
DTSTART;VALUE=DATE:20241211
DTEND;VALUE=DATE:20241212
DTSTAMP:20260422T133942
CREATED:20241209T173633Z
LAST-MODIFIED:20241209T173633Z
UID:3340-1733875200-1733961599@pohjajarvakool.ee
SUMMARY:Päkapikupäev
DESCRIPTION:Riietu päkapikuks või kanna midagi päkapikule omast. \nVahetundides kõlavad PÄKAPIKU LAULUD ja PÄKAPIKU JUTTE kuuleb 3.nda vahetunni ajal algklasside vahetunni ruumis.
URL:https://pohjajarvakool.ee/sundmus/pakapikupaev/
CATEGORIES:Albu kool
ATTACH;FMTTYPE=image/png:https://pohjajarvakool.ee/wp-content/uploads/2024/12/Lisage-pealkiri-1.png
END:VEVENT
BEGIN:VEVENT
DTSTART;TZID=Europe/Tallinn:20241209T130000
DTEND;TZID=Europe/Tallinn:20241209T160000
DTSTAMP:20260422T133942
CREATED:20241029T122547Z
LAST-MODIFIED:20241128T175538Z
UID:3238-1733749200-1733760000@pohjajarvakool.ee
SUMMARY:Jõululaat
DESCRIPTION:Albu koolipere poolt korraldatud traditsiooniline jõululaat Albu rahvamajas 9. detsembril kell 13.oo – 16.00. \nOotame lapsevanemaid\, kogukonnaliikmeid ning sõpru lähemalt ja kaugemalt toetama õpilaste ettevõtlikkust. \nJõululaat on kogu koolipere sündmus ning osa õppetööst:\n1.-4. klass osalevad laadal ning soovi korral müüvad oma tooteid/teenuseid.\n5.-9. klass müüvad laadal oma tooteid/teenuseid või korraldavad koolilaata koostöös õpilasesindusega ning leiavad endale sobiva ülesande/tegevuse. \nEesmärk: Õpilased on saanud läbi koolilaada korraldamise praktilise kogemuse ettevõtlikkusest ning planeerimis ja koostööoskusest. Ettevõtlikkuspädevus on arendatud.
URL:https://pohjajarvakool.ee/sundmus/joululaat/
LOCATION:Albu rahvamaja
CATEGORIES:Albu kool
ATTACH;FMTTYPE=image/png:https://pohjajarvakool.ee/wp-content/uploads/2024/10/joululaat-2.png
END:VEVENT
BEGIN:VEVENT
DTSTART;TZID=Europe/Tallinn:20241203T080000
DTEND;TZID=Europe/Tallinn:20241203T090000
DTSTAMP:20260422T133942
CREATED:20241126T083051Z
LAST-MODIFIED:20241126T083051Z
UID:3314-1733212800-1733216400@pohjajarvakool.ee
SUMMARY:Laternamatk
DESCRIPTION:Koguneme kella 8.00 Meie poe parklasse. Võta kaasa oma latern.
URL:https://pohjajarvakool.ee/sundmus/laternamatk/
LOCATION:Aravete kool
CATEGORIES:Aravete kool
ATTACH;FMTTYPE=image/png:https://pohjajarvakool.ee/wp-content/uploads/2024/11/Red-Modern-Merry-Christmas-A4-Document-1.png
END:VEVENT
BEGIN:VEVENT
DTSTART;TZID=Europe/Tallinn:20241202T133000
DTEND;TZID=Europe/Tallinn:20241206T153000
DTSTAMP:20260422T133942
CREATED:20241028T113213Z
LAST-MODIFIED:20241028T160727Z
UID:3202-1733146200-1733499000@pohjajarvakool.ee
SUMMARY:Ambla koolis mõttespordiolümpiaadi I voor
DESCRIPTION:2.-6. detsembril toimub Ambla koolis mõttespordiolümpiaadi I voor\, kus osalevad mõttespordiringi lapsed (valikuliselt I\, II\, III\, IV ja V klass).\n\n2. 12 – maleturniir\,\n3.12 – kabeturniir\,\n4.12 – gomokuturniir\,\n5.12 – sudokuturniir\,\n6.12 – ristsõnad
URL:https://pohjajarvakool.ee/sundmus/ambla-koolis-mottespordiolumpiaadi-i-voor/
LOCATION:Ambla kool
CATEGORIES:Ambla kool
END:VEVENT
BEGIN:VEVENT
DTSTART;TZID=Europe/Tallinn:20241202T122000
DTEND;TZID=Europe/Tallinn:20241202T133000
DTSTAMP:20260422T133942
CREATED:20241126T082334Z
LAST-MODIFIED:20241126T082334Z
UID:3309-1733142000-1733146200@pohjajarvakool.ee
SUMMARY:Advendiaja algus
DESCRIPTION:Ambla kirikus 2. detsembril  12.20 advendiaja alguse kontsert.
URL:https://pohjajarvakool.ee/sundmus/advendiaja-algus/
LOCATION:Ambla kirik
CATEGORIES:Ambla kool
END:VEVENT
BEGIN:VEVENT
DTSTART;TZID=Europe/Tallinn:20241202T080000
DTEND;TZID=Europe/Tallinn:20241206T150000
DTSTAMP:20260422T133942
CREATED:20241031T144220Z
LAST-MODIFIED:20241031T144220Z
UID:3255-1733126400-1733497200@pohjajarvakool.ee
SUMMARY:Aravete koolis jõuluootuse nädal
DESCRIPTION:02.12 – 06.12 jõuluootuse nädal
URL:https://pohjajarvakool.ee/sundmus/aravete-koolis-jouluootuse-nadal/
LOCATION:Aravete kool
CATEGORIES:Aravete kool
END:VEVENT
BEGIN:VEVENT
DTSTART;TZID=Europe/Tallinn:20241201T150000
DTEND;TZID=Europe/Tallinn:20241201T163000
DTSTAMP:20260422T133942
CREATED:20241126T082724Z
LAST-MODIFIED:20241126T083353Z
UID:3311-1733065200-1733070600@pohjajarvakool.ee
SUMMARY:Jõululaat Aravete kooli ees
DESCRIPTION:1.detsembril toimub kooli ees koolilaste advendilaat. Süütame jõulupuul tuled ning läbi pidi astuma ka üllatuskülaline. 
URL:https://pohjajarvakool.ee/sundmus/joululaat-aravete-kooli-ees/
LOCATION:Aravete kool
CATEGORIES:Aravete kool
ATTACH;FMTTYPE=image/png:https://pohjajarvakool.ee/wp-content/uploads/2024/11/Dark-Red-Beige-Cute-Simple-Illustrated-Holiday-Gingerbread-Christmas-Festival-Invitation-Flyer-1.png
END:VEVENT
BEGIN:VEVENT
DTSTART;TZID=Europe/Tallinn:20241125T080000
DTEND;TZID=Europe/Tallinn:20241129T150000
DTSTAMP:20260422T133942
CREATED:20241031T142428Z
LAST-MODIFIED:20241223T173257Z
UID:3252-1732521600-1732892400@pohjajarvakool.ee
SUMMARY:Sandinädal Aravete koolis
DESCRIPTION:25.11 – 29.11 – sandinädal
URL:https://pohjajarvakool.ee/sundmus/sandinadal-aravete-koolis/
LOCATION:Aravete kool
CATEGORIES:Aravete kool
END:VEVENT
BEGIN:VEVENT
DTSTART;TZID=Europe/Tallinn:20241122T092500
DTEND;TZID=Europe/Tallinn:20241122T153000
DTSTAMP:20260422T133942
CREATED:20241028T161216Z
LAST-MODIFIED:20241028T161216Z
UID:3208-1732267500-1732289400@pohjajarvakool.ee
SUMMARY:Karneval Ambla koolis
DESCRIPTION:
URL:https://pohjajarvakool.ee/sundmus/karneval-ambla-koolis/
LOCATION:Ambla kool
CATEGORIES:Ambla kool
END:VEVENT
BEGIN:VEVENT
DTSTART;TZID=Europe/Tallinn:20241118T120500
DTEND;TZID=Europe/Tallinn:20241118T125000
DTSTAMP:20260422T133942
CREATED:20241108T091211Z
LAST-MODIFIED:20241108T091518Z
UID:3262-1731931500-1731934200@pohjajarvakool.ee
SUMMARY:Erinevused rikastavad: sanditamise kombeid meil ja mujal.
DESCRIPTION:Õpilaste esitlused erinevate sanditamise kommete kohta laias maailmas. \nEesmärk: õpilased on tutvunud erinevate maade ja rahvaste rahvakultuuri kommetega\, on saanud kogemuse meeskonnatööst ning arendanud esinemis- ja suhtlemisoskust. \nMis on sanditamine?\nSanditamise kombed Eestis viitavad traditsioonilistele rituaalidele\, kus riietutakse maskidesse ja kostüümidesse ning käiakse perest peresse lauldes\, tantsides ja õnnistust tuues. Selle eest antakse neile tänutäheks toitu\, maiustusi või väikeseid kingitusi.\nEesti sanditamise tähtpäevade kohta saab lugeda lisaks siit: https://hakkamesantima.ee/sanditamine-eestis\nKa mujal maailmas leidub mitmeid tähtpäevi ja kombeid\, mis sarnanevad Eesti sanditamise traditsioonidega. Nendel pidustustel riietuvad inimesed sageli kostüümidesse\, käivad naabrite juures\, laulavad\, tantsivad või küsivad kingitusi.
URL:https://pohjajarvakool.ee/sundmus/erinevused-rikastavad-sanditamise-kombeid-meil-ja-mujal/
CATEGORIES:Albu kool
ATTACH;FMTTYPE=image/png:https://pohjajarvakool.ee/wp-content/uploads/2024/11/sanditamine.png
END:VEVENT
BEGIN:VEVENT
DTSTART;TZID=Europe/Tallinn:20241118T080000
DTEND;TZID=Europe/Tallinn:20241122T170000
DTSTAMP:20260422T133942
CREATED:20241031T142222Z
LAST-MODIFIED:20241031T142222Z
UID:3250-1731916800-1732294800@pohjajarvakool.ee
SUMMARY:Meeste nädal Aravete koolis
DESCRIPTION:18.11 – 22.11 meestenädal
URL:https://pohjajarvakool.ee/sundmus/meeste-nadal-aravete-koolis/
LOCATION:Aravete kool
CATEGORIES:Aravete kool
END:VEVENT
BEGIN:VEVENT
DTSTART;TZID=Europe/Tallinn:20241115T080000
DTEND;TZID=Europe/Tallinn:20241115T150000
DTSTAMP:20260422T133942
CREATED:20241031T142048Z
LAST-MODIFIED:20241031T142048Z
UID:3248-1731657600-1731682800@pohjajarvakool.ee
SUMMARY:Iseseisva õppe päev Järva valla koolides
DESCRIPTION:15.11  – õpilastel iseseisva õppe päev –  toimub Järva valla õpetajate inspiratsioonipäev\, seekord  Aravete koolis.
URL:https://pohjajarvakool.ee/sundmus/iseseisva-oppe-paev-jarva-valla-koolides/
LOCATION:Aravete kool
CATEGORIES:Albu kool,Ambla kool,Aravete kool
END:VEVENT
BEGIN:VEVENT
DTSTART;TZID=Europe/Tallinn:20241114T100000
DTEND;TZID=Europe/Tallinn:20241114T130000
DTSTAMP:20260422T133942
CREATED:20241104T072427Z
LAST-MODIFIED:20241104T072427Z
UID:3257-1731578400-1731589200@pohjajarvakool.ee
SUMMARY:Ellen Niiduga Midrimaale
DESCRIPTION: 14.11 toimub Ellen Niiduga Midrimaale Aravete voor 1.-6. klassidele.\nMaakondlik voor  Ellen niiduga Midrimaale  toimub 26. 11  Koigi koolis.
URL:https://pohjajarvakool.ee/sundmus/ellen-niiduga-midrimaale/
CATEGORIES:Aravete kool
END:VEVENT
BEGIN:VEVENT
DTSTART;TZID=Europe/Tallinn:20241113T101000
DTEND;TZID=Europe/Tallinn:20241113T113000
DTSTAMP:20260422T133942
CREATED:20241029T074715Z
LAST-MODIFIED:20241031T114807Z
UID:3199-1731492600-1731497400@pohjajarvakool.ee
SUMMARY:Loeng-etendus "Sõnakunsti helimaagia"
DESCRIPTION:13. nov 7.-9. klass Albu koolis\n“Sõnakunsti helimaagia”\nKoolinoortele\nLoeng-etendus viib vaatajad teatri prooviruumidesse ja tutvustab vaatajaile\, kuidas valmib ühe lavastuse helikujundus.\n\nVastused saavad küsimused mis on originaalmuusika\, kuidas muusikat töödeldakse või kuidas muusikat esitatakse.\nKoos publikuga tehakse valmis ühe lustaka loo helikujundus.\nJutustavad ja musitseerivad:\nnäitleja ja dramaturg Arlet Palmiste\nhelilooja ja muusik Vootele Ruusmaa.
URL:https://pohjajarvakool.ee/sundmus/loeng-etendus-sonakunsti-helimaagia/
LOCATION:Albu kool
CATEGORIES:Albu kool,Aravete kool
ATTACH;FMTTYPE=image/png:https://pohjajarvakool.ee/wp-content/uploads/2024/10/sonakunsti-helimaagia-A4_20241025_120359_0000.png
END:VEVENT
BEGIN:VEVENT
DTSTART;TZID=Europe/Tallinn:20241113T083000
DTEND;TZID=Europe/Tallinn:20241113T153000
DTSTAMP:20260422T133942
CREATED:20241028T161058Z
LAST-MODIFIED:20241028T161058Z
UID:3206-1731486600-1731511800@pohjajarvakool.ee
SUMMARY:Ambla kooli väljasõit
DESCRIPTION:Ambla kooli õpilased külastavad 13. novembril Politseimuuseumi\, Rakvere laululava\, Kadrina madalseiklusparki.    
URL:https://pohjajarvakool.ee/sundmus/ambla-kooli-valjasoit/
LOCATION:Ambla kool
CATEGORIES:Ambla kool
END:VEVENT
BEGIN:VEVENT
DTSTART;TZID=Europe/Tallinn:20241111T180000
DTEND;TZID=Europe/Tallinn:20241111T193000
DTSTAMP:20260422T133942
CREATED:20241029T070738Z
LAST-MODIFIED:20241029T070738Z
UID:3220-1731348000-1731353400@pohjajarvakool.ee
SUMMARY:Isadepäeva trall Aravete koolis
DESCRIPTION:Isadepäeva trall toimub Aravete kooli aulas 11.11 kell 18.00.  \nOotame kõiki isasid ja vanaisasid!
URL:https://pohjajarvakool.ee/sundmus/isadepaeva-trall-aravete-koolis/
LOCATION:Aravete kool
CATEGORIES:Aravete kool
ATTACH;FMTTYPE=image/jpeg:https://pohjajarvakool.ee/wp-content/uploads/2024/10/1000002420.jpg
END:VEVENT
BEGIN:VEVENT
DTSTART;TZID=Europe/Tallinn:20241111T101000
DTEND;TZID=Europe/Tallinn:20241111T115000
DTSTAMP:20260422T133942
CREATED:20241029T105724Z
LAST-MODIFIED:20241029T105724Z
UID:3231-1731319800-1731325800@pohjajarvakool.ee
SUMMARY:Ellen Niiduga Midrimaale Albu voor 1.-.6.kl
DESCRIPTION:
URL:https://pohjajarvakool.ee/sundmus/ellen-niiduga-midrimaale-albu-voor-1-6-kl/
LOCATION:Albu kool
CATEGORIES:Albu kool
END:VEVENT
BEGIN:VEVENT
DTSTART;TZID=Europe/Tallinn:20241107T150000
DTEND;TZID=Europe/Tallinn:20241107T170000
DTSTAMP:20260422T133942
CREATED:20241031T141628Z
LAST-MODIFIED:20241031T141628Z
UID:3246-1730991600-1730998800@pohjajarvakool.ee
SUMMARY:Järva valla haridustöötajate mälumäng
DESCRIPTION:Järva valla haridustöötajate mälumäng toimub Koerus algusega kell 15.00. \n 
URL:https://pohjajarvakool.ee/sundmus/jarva-valla-haridustootajate-malumang/
CATEGORIES:Albu kool,Aravete kool
END:VEVENT
BEGIN:VEVENT
DTSTART;TZID=Europe/Tallinn:20241106T103000
DTEND;TZID=Europe/Tallinn:20241106T103000
DTSTAMP:20260422T133942
CREATED:20241029T121716Z
LAST-MODIFIED:20241029T122243Z
UID:3233-1730889000-1730889000@pohjajarvakool.ee
SUMMARY:Albu kooli teatrikülastus
DESCRIPTION:Albu kooli 3.-4. klass lähevad vaatama teatrietendust “Pipi Pikksukk” \n 
URL:https://pohjajarvakool.ee/sundmus/albu-kooli-teatrikulastus/
CATEGORIES:Albu kool
END:VEVENT
BEGIN:VEVENT
DTSTART;TZID=Europe/Tallinn:20241104T090000
DTEND;TZID=Europe/Tallinn:20241108T113000
DTSTAMP:20260422T133942
CREATED:20241031T140029Z
LAST-MODIFIED:20241031T140029Z
UID:3244-1730710800-1731065400@pohjajarvakool.ee
SUMMARY:Vilkurite nädal Aravete koolis
DESCRIPTION:4.-8. november toimub Aravete koolis Vilkurite nädal. \n04.11 – Kriisivarude loeng 3. tunni ajal \n05.11 – Politsei loeng \n\n\n\n\n\ntunni ajal 1.-2. klass / kiusamine\, turvaline liiklemine\ntunni ajal 3.-4. klass / kiusamine\, turvaline liiklemine\, keelatud ained\n\n\n\n\n\n06.11 – Päästeameti loeng 3. tunni ajal \n07.11 – Kaitseväe kiirabi 2. tunni ajal- 2 gruppi 1.-2. klass ja 3.-4. klass (maastikuauto\, maanteeauto) \n08.11 – Vilkurite nädala lõpetuseks Kahoot teadmiste-test (kaasa võtta telefonid) \nLapsed toovad kooli kaasa pildi isast ja vanaisast.
URL:https://pohjajarvakool.ee/sundmus/vilkurite-nadal-aravete-koolis/
LOCATION:Aravete kool
CATEGORIES:Aravete kool
END:VEVENT
BEGIN:VEVENT
DTSTART;TZID=Europe/Tallinn:20241101T160000
DTEND;TZID=Europe/Tallinn:20241101T200000
DTSTAMP:20260422T133942
CREATED:20241029T103431Z
LAST-MODIFIED:20241029T103705Z
UID:3225-1730476800-1730491200@pohjajarvakool.ee
SUMMARY:Halloweeni pidu Albu rahvamajas
DESCRIPTION:Sellel aastal toimub Halloweeni tähistamine Albu rahvamajas reedel kell 16.00 – 20.00 ning seda korraldab oma loovtöö raames Liisa Babak koostöös noorsootöötajatega. \nSisse pääseb kostüümis ja piletiks on omanäoline küpsetis või jook ühisele peolauale.\nSisenemine on rahvamaja uksest. \nTurvalisuse tagamiseks hoiame rahvamaja uksed lukus ning peo ajal edasi-tagasi õue liikumist ei ole. Palume peole saabuda kell 16.00-16.15\, sellel ajal on noorsootöötaja uksel saabujaid vastu võtmas. Muul ajal saabudes palume helistada Allikenile või Kaiale ukse avamiseks. Peolistele palume järgi tulla kell 20.00. Varasemal lahkumisel palume teavitada noorsootöötajat. \n 
URL:https://pohjajarvakool.ee/sundmus/halloweeni-pidu-albu-rahvamajas/
LOCATION:Albu rahvamaja
CATEGORIES:Albu kool
ATTACH;FMTTYPE=image/jpeg:https://pohjajarvakool.ee/wp-content/uploads/2024/10/462543971_1255267889128223_2574023160251882698_n.jpg
END:VEVENT
BEGIN:VEVENT
DTSTART;TZID=Europe/Tallinn:20241031T000000
DTEND;TZID=Europe/Tallinn:20241031T000000
DTSTAMP:20260422T133942
CREATED:20240924T121459Z
LAST-MODIFIED:20240924T121525Z
UID:3058-1730332800-1730332800@pohjajarvakool.ee
SUMMARY:Kooliöö Ambla koolis
DESCRIPTION:
URL:https://pohjajarvakool.ee/sundmus/koolioo-ambla-koolis/
LOCATION:Ambla kool
CATEGORIES:Ambla kool
END:VEVENT
BEGIN:VEVENT
DTSTART;TZID=Europe/Tallinn:20241030T080000
DTEND;TZID=Europe/Tallinn:20241030T111500
DTSTAMP:20260422T133942
CREATED:20241028T161641Z
LAST-MODIFIED:20241031T142639Z
UID:3210-1730275200-1730286900@pohjajarvakool.ee
SUMMARY:Peagi alustab Aravete koolis eelkool
DESCRIPTION:JÄÄB ÄRA! \nOotame tulevasi koolilapsi ja nende vanemaid tutvuma Põhja-Järva Kooli õppekohaga! \nAjakava: \n8.00-8.45 tervitame tulevasi esimese klassi õpilasi. \n8.55-9.40 lastel tund kooli tugispetsialistidega. Kooliküpsuse test. Vanematel vestlusring klassijuhatajaga. \n9.50-10.35 lastel tund klassijuhatajaga\, vanematel vestlusring tugispetsialistidega. \n10.45-11.00 vanematel veel võimalus vestelda klassijuhatajaga\, lastel aktiivne vahetund. Päeva lõpetamine. \n11.00-11.15 söömine. \nLastel ja vanematel palume kaasa võtta vahetusjalatsid! \nKaasa värvipliiatsid\, harilik pliiats ja kustutuskumm! \n 
URL:https://pohjajarvakool.ee/sundmus/peagi-alustab-aravete-koolis-eelkool/
LOCATION:Aravete kool
CATEGORIES:Aravete kool
ATTACH;FMTTYPE=image/jpeg:https://pohjajarvakool.ee/wp-content/uploads/2024/10/Eelkooli-kokkusaamine.jpg
END:VEVENT
BEGIN:VEVENT
DTSTART;TZID=Europe/Tallinn:20241029T080000
DTEND;TZID=Europe/Tallinn:20241029T170000
DTSTAMP:20260422T133942
CREATED:20241008T135917Z
LAST-MODIFIED:20241008T140039Z
UID:3098-1730188800-1730221200@pohjajarvakool.ee
SUMMARY:Aravete kool PROTO avastustehases
DESCRIPTION:Aravete kooli 1.-3.klassi õpilased lähevad KIK projekti raames väljasõidule PROTO avastustehasesse. \nÕppeprogrammiks on „Leiutajaks sündinud“
URL:https://pohjajarvakool.ee/sundmus/aravete-kool-proto-avastustehases/
CATEGORIES:Aravete kool
END:VEVENT
BEGIN:VEVENT
DTSTART;TZID=Europe/Tallinn:20241028T090000
DTEND;TZID=Europe/Tallinn:20241101T150000
DTSTAMP:20260422T133942
CREATED:20241008T124206Z
LAST-MODIFIED:20241031T142720Z
UID:3075-1730106000-1730473200@pohjajarvakool.ee
SUMMARY:Tore nädal
DESCRIPTION:28. oktoober – 1. november toimub Aravete koolis Tore nädal\n\n28.10. Tähistame koolis valla sünnipäeva.\n29.10. Tähistame kooli sünnipäeva.\n30.10. Uue esimese klassi tutvumise päev.\n31. 10. Kostümeeritud halloween.\n01.11. Tordipidu “Maitsev rahvakultuur”. Iga klass teeb endale tordi\, mida esitleb aulas 4. tunni ajal koos etteastega.
URL:https://pohjajarvakool.ee/sundmus/tore-nadal/
LOCATION:Aravete kool
CATEGORIES:Aravete kool
END:VEVENT
BEGIN:VEVENT
DTSTART;TZID=Europe/Tallinn:20241017T170000
DTEND;TZID=Europe/Tallinn:20241017T170000
DTSTAMP:20260422T133942
CREATED:20240917T084626Z
LAST-MODIFIED:20241016T072020Z
UID:3015-1729184400-1729184400@pohjajarvakool.ee
SUMMARY:Albu kooli sünnipäevakontsert
DESCRIPTION:Armsad lapsevanemad\n\n\n\nOlete oodatud Albu kooli 103. sünnipäevale pühendatud sügiskontserdile.\nSünnipäevale kohaselt valmistavad õpilased suure tordi\, mida sööme üheskoos peale kontserti.
URL:https://pohjajarvakool.ee/sundmus/albu-kooli-sunnipaevakontsert/
LOCATION:Albu kool
CATEGORIES:Albu kool
ATTACH;FMTTYPE=image/png:https://pohjajarvakool.ee/wp-content/uploads/2024/09/ALBU-KOOLI-SUGISKONTSERT.png
END:VEVENT
BEGIN:VEVENT
DTSTART;TZID=Europe/Tallinn:20241016T100000
DTEND;TZID=Europe/Tallinn:20241016T130000
DTSTAMP:20260422T133942
CREATED:20241008T124316Z
LAST-MODIFIED:20241008T135928Z
UID:3077-1729072800-1729083600@pohjajarvakool.ee
SUMMARY:Kratilood Aravete kultuurimajas
DESCRIPTION:Koolinoorte jutuvestmise konkurss\, kus hinnatakse lugude jutustamise säravaid esitlusi.
URL:https://pohjajarvakool.ee/sundmus/kratilood-aravete-kultuurimajas/
LOCATION:Aravete kultuurimaja
CATEGORIES:Aravete kool
ATTACH;FMTTYPE=image/jpeg:https://pohjajarvakool.ee/wp-content/uploads/2024/10/kratilood24.jpg
END:VEVENT
BEGIN:VEVENT
DTSTART;TZID=Europe/Tallinn:20241016T080000
DTEND;TZID=Europe/Tallinn:20241016T170000
DTSTAMP:20260422T133942
CREATED:20241008T124738Z
LAST-MODIFIED:20241008T135619Z
UID:3080-1729065600-1729098000@pohjajarvakool.ee
SUMMARY:Aravete kooli 7.-9. klass KIK väljasõidul
DESCRIPTION:KIK väljasõit viib Aravete kooli 7.-9. klassi õpilased 16. oktoobril Padise kloostrisse. \nÕpiprogrammideks on mesinduse töötuba või ürditöötuba \nKooli- ja lasteaiaõpetajale
URL:https://pohjajarvakool.ee/sundmus/aravete-kooli-7-9-klass-kik-valjasoidul/
CATEGORIES:Aravete kool
END:VEVENT
BEGIN:VEVENT
DTSTART;TZID=Europe/Tallinn:20241010T090000
DTEND;TZID=Europe/Tallinn:20241010T120000
DTSTAMP:20260422T133942
CREATED:20240924T121351Z
LAST-MODIFIED:20240924T121351Z
UID:3056-1728550800-1728561600@pohjajarvakool.ee
SUMMARY:Matkapäev - Aegviidu-Nelijärve
DESCRIPTION:Ambla kooli õpilaste matkapäev toimib 10. oktoobril.
URL:https://pohjajarvakool.ee/sundmus/matkapaev-aegviidu-nelijarve/
LOCATION:Ambla kool
CATEGORIES:Ambla kool
END:VEVENT
BEGIN:VEVENT
DTSTART;TZID=Europe/Tallinn:20241007T103000
DTEND;TZID=Europe/Tallinn:20241007T150000
DTSTAMP:20260422T133942
CREATED:20240916T133007Z
LAST-MODIFIED:20240917T081249Z
UID:2997-1728297000-1728313200@pohjajarvakool.ee
SUMMARY:KIK õppekäik I-V klass
DESCRIPTION:KIK projekti raames toimub I-V klassi väljasõit Tallinna Loomaaeda\, kus õpilased osalevad õppeprogrammis “Loomad erinevates elukeskkondades”. Õppeprogramm algab umbes 30 minutit kestva loomaaia mänguga ja seejärel minnakse juhendajatega retkele erinevatesse elupaikadesse. \nVäljasõit kooli juurest kell 10.30.
URL:https://pohjajarvakool.ee/sundmus/kik-oppekaik-i-v-klass/
LOCATION:Albu kool
CATEGORIES:Albu kool
END:VEVENT
END:VCALENDAR