BEGIN:VCALENDAR
VERSION:2.0
PRODID:-//Põhja-Järva Kool - ECPv6.15.18//NONSGML v1.0//EN
CALSCALE:GREGORIAN
METHOD:PUBLISH
X-ORIGINAL-URL:https://pohjajarvakool.ee
X-WR-CALDESC:Events for Põhja-Järva Kool
REFRESH-INTERVAL;VALUE=DURATION:PT1H
X-Robots-Tag:noindex
X-PUBLISHED-TTL:PT1H
BEGIN:VTIMEZONE
TZID:Europe/Tallinn
BEGIN:DAYLIGHT
TZOFFSETFROM:+0200
TZOFFSETTO:+0300
TZNAME:EEST
DTSTART:20250330T010000
END:DAYLIGHT
BEGIN:STANDARD
TZOFFSETFROM:+0300
TZOFFSETTO:+0200
TZNAME:EET
DTSTART:20251026T010000
END:STANDARD
BEGIN:DAYLIGHT
TZOFFSETFROM:+0200
TZOFFSETTO:+0300
TZNAME:EEST
DTSTART:20260329T010000
END:DAYLIGHT
BEGIN:STANDARD
TZOFFSETFROM:+0300
TZOFFSETTO:+0200
TZNAME:EET
DTSTART:20261025T010000
END:STANDARD
BEGIN:DAYLIGHT
TZOFFSETFROM:+0200
TZOFFSETTO:+0300
TZNAME:EEST
DTSTART:20270328T010000
END:DAYLIGHT
BEGIN:STANDARD
TZOFFSETFROM:+0300
TZOFFSETTO:+0200
TZNAME:EET
DTSTART:20271031T010000
END:STANDARD
END:VTIMEZONE
BEGIN:VEVENT
DTSTART;TZID=Europe/Tallinn:20260330T084000
DTEND;TZID=Europe/Tallinn:20260402T150000
DTSTAMP:20260422T135423
CREATED:20260302T080201Z
LAST-MODIFIED:20260323T111252Z
UID:4842-1774860000-1775142000@pohjajarvakool.ee
SUMMARY:Kirikunädal
DESCRIPTION:30.03-02.04 Kirikunädal \nUurime\, mida tähendavad suur reede ning ülestõusmispühad. \n31.03  tuleb külla Järva-Madise koguduse õpetaja Jane Vain.
URL:https://pohjajarvakool.ee/sundmus/kirikunadal/
LOCATION:Aravete kool
CATEGORIES:Aravete kool
END:VEVENT
BEGIN:VEVENT
DTSTART;TZID=Europe/Tallinn:20260401T084000
DTEND;TZID=Europe/Tallinn:20260401T150000
DTSTAMP:20260422T135423
CREATED:20260302T080552Z
LAST-MODIFIED:20260330T091503Z
UID:4845-1775032800-1775055600@pohjajarvakool.ee
SUMMARY:Koolikotivaba päev
DESCRIPTION:Asenda täna koolikott millegi uue ja põnevaga! Mida omapärasem seda parem.
URL:https://pohjajarvakool.ee/sundmus/koolikotivaba-paev/
LOCATION:Aravete kool
CATEGORIES:Aravete kool
ATTACH;FMTTYPE=image/png:https://pohjajarvakool.ee/wp-content/uploads/2026/03/School-Bag-Product-Promotion-Facebook-Post-1.png
END:VEVENT
BEGIN:VEVENT
DTSTART;TZID=Europe/Tallinn:20260410T170000
DTEND;TZID=Europe/Tallinn:20260410T183000
DTSTAMP:20260422T135423
CREATED:20260330T091126Z
LAST-MODIFIED:20260330T091243Z
UID:4934-1775840400-1775845800@pohjajarvakool.ee
SUMMARY:Aravisioon
DESCRIPTION:Ootame kõiki Aravete kooli Aravisioonile 10. aprillil kell 17:00!
URL:https://pohjajarvakool.ee/sundmus/aravisioon-2/
LOCATION:Aravete kool
CATEGORIES:Aravete kool
ATTACH;FMTTYPE=image/jpeg:https://pohjajarvakool.ee/wp-content/uploads/2026/03/aravisioon_26.jpg
END:VEVENT
BEGIN:VEVENT
DTSTART;TZID=Europe/Tallinn:20260410T180000
DTEND;TZID=Europe/Tallinn:20260410T193000
DTSTAMP:20260422T135423
CREATED:20260318T105614Z
LAST-MODIFIED:20260407T070722Z
UID:4881-1775844000-1775849400@pohjajarvakool.ee
SUMMARY:Oma Kooli Tantsupidu
DESCRIPTION:TULEB TAAS – OMA KOOLI TANTSUPIDU!\n\n\nSel aastal vallutavad lava superstaarid\, sest tantsukavade teemaks on POP ARTISTID \n\n\nTule ela kaasa ja saa osa meie kooli ühest oodatuimast sündmusest!
URL:https://pohjajarvakool.ee/sundmus/oma-kooli-tantsupidu-2/
LOCATION:Albu rahvamaja
CATEGORIES:Albu kool
ATTACH;FMTTYPE=image/jpeg:https://pohjajarvakool.ee/wp-content/uploads/2026/03/3783ba67-1786-4432-9148-2c446ea2b76b.jpg
END:VEVENT
BEGIN:VEVENT
DTSTART;TZID=Europe/Tallinn:20260424T103000
DTEND;TZID=Europe/Tallinn:20260424T115000
DTSTAMP:20260422T135423
CREATED:20260406T110228Z
LAST-MODIFIED:20260414T063703Z
UID:4943-1777026600-1777031400@pohjajarvakool.ee
SUMMARY:Kohtumine vilistlastega
DESCRIPTION:24.04  tulevad vilistlased rääkima 8. ja 9. klassi noortele oma koolidest.
URL:https://pohjajarvakool.ee/sundmus/kohtumine-vilistlastega/
LOCATION:Aravete kool
CATEGORIES:Aravete kool
END:VEVENT
BEGIN:VEVENT
DTSTART;TZID=Europe/Tallinn:20260428T092500
DTEND;TZID=Europe/Tallinn:20260428T101000
DTSTAMP:20260422T135423
CREATED:20260406T110438Z
LAST-MODIFIED:20260414T062235Z
UID:4945-1777368300-1777371000@pohjajarvakool.ee
SUMMARY:Külas jutuvestja Piret Päär
DESCRIPTION:28.04 1.-4. klassi õpilastele tuleb külla Piret Päär\, kes  jutustab nõia- ja kollijutte.
URL:https://pohjajarvakool.ee/sundmus/kulas-piret-paar/
LOCATION:Aravete kool
CATEGORIES:Aravete kool
END:VEVENT
BEGIN:VEVENT
DTSTART;TZID=Europe/Tallinn:20260430T083000
DTEND;TZID=Europe/Tallinn:20260430T190000
DTSTAMP:20260422T135423
CREATED:20260422T094127Z
LAST-MODIFIED:20260422T094321Z
UID:4964-1777537800-1777575600@pohjajarvakool.ee
SUMMARY:Volbripäev
DESCRIPTION:✨ Aprilli lõpp toob endaga kaasa killukese maagiat. 30. aprillil ootavad meie kooliperet ees toredad volbriga seotud sündmused✨ \n \n🪄 VOLBRI STIILIKAS – NÕIDADE JA VÕLURITE PÄEV \nTule kooli nõia\, võluri või muu maagilise tegelasena – lase fantaasial lennata ja muuda koolipäev eriliseks! Parimad kostüümid saavad tunnustatud. \n🔥 VOLBRIÕHTU  \nPane selga oma kõige ägedam nõiakostüüm ja tule näita seda ka teistele. Võta kaasa väike amps ühisele peolauale ja tule kogu perega.
URL:https://pohjajarvakool.ee/sundmus/volbripaev-2/
LOCATION:Albu kool
CATEGORIES:Albu kool
ATTACH;FMTTYPE=image/png:https://pohjajarvakool.ee/wp-content/uploads/2026/04/volbriohtu-1.png
END:VEVENT
BEGIN:VEVENT
DTSTART;TZID=Europe/Tallinn:20260430T084000
DTEND;TZID=Europe/Tallinn:20260430T150000
DTSTAMP:20260422T135423
CREATED:20260407T071650Z
LAST-MODIFIED:20260407T071731Z
UID:4950-1777538400-1777561200@pohjajarvakool.ee
SUMMARY:Volbripäev
DESCRIPTION:Üheks päevaks muutub kool Walburgi mäeks\, kuhu kogunevad kõik nõiad\, sortsid\, kratid ja võlurid.
URL:https://pohjajarvakool.ee/sundmus/volbripaev/
LOCATION:Aravete kool
CATEGORIES:Aravete kool
ATTACH;FMTTYPE=image/jpeg:https://pohjajarvakool.ee/wp-content/uploads/2026/04/8697e53d-04c5-4528-96ae-ff19cfbc0074.jpg
END:VEVENT
BEGIN:VEVENT
DTSTART;TZID=Europe/Tallinn:20260507T170000
DTEND;TZID=Europe/Tallinn:20260507T183000
DTSTAMP:20260422T135423
CREATED:20260422T101009Z
LAST-MODIFIED:20260422T101009Z
UID:4969-1778173200-1778178600@pohjajarvakool.ee
SUMMARY:Emadepäeva kevadkontsert
DESCRIPTION:Saabuva emadepäeva puhul toimub meie kooli traditsiooniline kevadkontsert. \nArmsad emad ja vanaemad – see kontsert on pühendatud teile. Ootame teid kuulama\, vaatama ning osa saama meie õpilaste laulust\, tantsust ja pillimängust. Oodatud on ka kõik teised pereliikmed ja lähedased. \nEmadepäeva kevadkontserdi eesmärk on hoida au sees traditsioone ning tuua esile kooli väärtusi. Kontsert pakub õpilastele võimalust esineda\, arendada enesekindlust ning väljendada tänu ja hoolivust oma lähedaste vastu.
URL:https://pohjajarvakool.ee/sundmus/emadepaeva-kevadkontsert/
LOCATION:Albu rahvamaja
CATEGORIES:Albu kool
END:VEVENT
BEGIN:VEVENT
DTSTART;TZID=Europe/Tallinn:20260508T170000
DTEND;TZID=Europe/Tallinn:20260508T183000
DTSTAMP:20260422T135423
CREATED:20260414T062556Z
LAST-MODIFIED:20260414T063121Z
UID:4954-1778259600-1778265000@pohjajarvakool.ee
SUMMARY:Kevadkontsert
DESCRIPTION:Ootame teid näitusele ja kontserdile 8. mail kell 17.00
URL:https://pohjajarvakool.ee/sundmus/kevadkontsert-3/
LOCATION:Aravete kool
CATEGORIES:Aravete kool
END:VEVENT
BEGIN:VEVENT
DTSTART;TZID=Europe/Tallinn:20260511T093000
DTEND;TZID=Europe/Tallinn:20260511T113000
DTSTAMP:20260422T135423
CREATED:20260422T101258Z
LAST-MODIFIED:20260422T101258Z
UID:4971-1778491800-1778499000@pohjajarvakool.ee
SUMMARY:Avatud uste päev esimesse klassi astujatele
DESCRIPTION:
URL:https://pohjajarvakool.ee/sundmus/avatud-uste-paev-esimesse-klassi-astujatele/
LOCATION:Albu kool
CATEGORIES:Albu kool
END:VEVENT
BEGIN:VEVENT
DTSTART;TZID=Europe/Tallinn:20260515T180000
DTEND;TZID=Europe/Tallinn:20260515T193000
DTSTAMP:20260422T135423
CREATED:20260422T101747Z
LAST-MODIFIED:20260422T102053Z
UID:4973-1778868000-1778873400@pohjajarvakool.ee
SUMMARY:Meite lapse pillituba kevadkontsert
DESCRIPTION:Kevadkontserdil esinevad kõik pillitoa ja muusikakooli õpilased!
URL:https://pohjajarvakool.ee/sundmus/meite-lapse-pillituba-kevadkontsert/
LOCATION:Albu rahvamaja
CATEGORIES:Albu kool
ATTACH;FMTTYPE=image/jpeg:https://pohjajarvakool.ee/wp-content/uploads/2026/04/pillituba-kevadkontsert.jpg
END:VEVENT
END:VCALENDAR