BEGIN:VCALENDAR
VERSION:2.0
PRODID:-//Põhja-Järva Kool - ECPv6.15.18//NONSGML v1.0//EN
CALSCALE:GREGORIAN
METHOD:PUBLISH
X-WR-CALNAME:Põhja-Järva Kool
X-ORIGINAL-URL:https://pohjajarvakool.ee
X-WR-CALDESC:Events for Põhja-Järva Kool
REFRESH-INTERVAL;VALUE=DURATION:PT1H
X-Robots-Tag:noindex
X-PUBLISHED-TTL:PT1H
BEGIN:VTIMEZONE
TZID:Europe/Tallinn
BEGIN:DAYLIGHT
TZOFFSETFROM:+0200
TZOFFSETTO:+0300
TZNAME:EEST
DTSTART:20250330T010000
END:DAYLIGHT
BEGIN:STANDARD
TZOFFSETFROM:+0300
TZOFFSETTO:+0200
TZNAME:EET
DTSTART:20251026T010000
END:STANDARD
BEGIN:DAYLIGHT
TZOFFSETFROM:+0200
TZOFFSETTO:+0300
TZNAME:EEST
DTSTART:20260329T010000
END:DAYLIGHT
BEGIN:STANDARD
TZOFFSETFROM:+0300
TZOFFSETTO:+0200
TZNAME:EET
DTSTART:20261025T010000
END:STANDARD
BEGIN:DAYLIGHT
TZOFFSETFROM:+0200
TZOFFSETTO:+0300
TZNAME:EEST
DTSTART:20270328T010000
END:DAYLIGHT
BEGIN:STANDARD
TZOFFSETFROM:+0300
TZOFFSETTO:+0200
TZNAME:EET
DTSTART:20271031T010000
END:STANDARD
END:VTIMEZONE
BEGIN:VEVENT
DTSTART;VALUE=DATE:20260218
DTEND;VALUE=DATE:20260219
DTSTAMP:20260422T003539
CREATED:20260202T084814Z
LAST-MODIFIED:20260202T084814Z
UID:4788-1771372800-1771459199@pohjajarvakool.ee
SUMMARY:Tööle kaasa päev
DESCRIPTION:“Tööle kaasa!” on praktiline õppepäev oma vanema töökohas. Õpilane saab teadlikumaks töömaailmas toimuvast. Ta näeb mis on tema vanema igapäevatöö\, milline on tema tööpäev ja –keskkond\, töö sisu ja selle väärtus\, ning saab aru miks erinevad tööd on vajalikud ja et iga töö tegija on tähtis.
URL:https://pohjajarvakool.ee/sundmus/toole-kaasa-paev-2/
CATEGORIES:Albu kool
END:VEVENT
BEGIN:VEVENT
DTSTART;TZID=Europe/Tallinn:20260219T170000
DTEND;TZID=Europe/Tallinn:20260219T210000
DTSTAMP:20260422T003539
CREATED:20260202T085207Z
LAST-MODIFIED:20260211T114119Z
UID:4794-1771520400-1771534800@pohjajarvakool.ee
SUMMARY:Vabariigi aastapäeva pidulik vastuvõtt
DESCRIPTION:Eesti Vabariigi aastapäevale pühendatud pidulik vastuvõtt Albu rahvamajas kell 17.00 \n6.-9. klass \n\n\n*kätlemistseremoonia \n\n\n*direktori ja õpilasesinduse tervitus; \n\n\n*muusikat mängib noortebänd; \n\n\n*meelelahutuslikud tegevused; \n\n\n*banketilaud \n\n\nRiietus: väärikas ja pidulik\, vajalikud vahetusjalanõud
URL:https://pohjajarvakool.ee/sundmus/vabariigi-aastapaeva-pidulik-vastuvott/
LOCATION:Albu rahvamaja
CATEGORIES:Albu kool
ATTACH;FMTTYPE=image/png:https://pohjajarvakool.ee/wp-content/uploads/2026/02/Eesti-Vabariigi-106.-aastapaev.png
END:VEVENT
BEGIN:VEVENT
DTSTART;TZID=Europe/Tallinn:20260220T083000
DTEND;TZID=Europe/Tallinn:20260220T120000
DTSTAMP:20260422T003539
CREATED:20260202T085358Z
LAST-MODIFIED:20260202T085358Z
UID:4796-1771576200-1771588800@pohjajarvakool.ee
SUMMARY:Vabariigi aastapäeva kontsert-aktus Aravetel
DESCRIPTION:1-5. klass
URL:https://pohjajarvakool.ee/sundmus/vabariigi-aastapaeva-kontsert-aktus-aravetel/
LOCATION:Aravete kool
CATEGORIES:Albu kool
END:VEVENT
BEGIN:VEVENT
DTSTART;TZID=Europe/Tallinn:20260302T084000
DTEND;TZID=Europe/Tallinn:20260306T150000
DTSTAMP:20260422T003539
CREATED:20260302T074919Z
LAST-MODIFIED:20260302T075011Z
UID:4833-1772440800-1772809200@pohjajarvakool.ee
SUMMARY:Naistenädal
DESCRIPTION:02.03-06.03 Naistenädal \nNaistenädal on temaatiline nädal\, mille eesmärk on tõsta teadlikkust naiste rollist ja panusest ühiskonnas ning edendada soolist võrdõiguslikkust.
URL:https://pohjajarvakool.ee/sundmus/naistenadal/
LOCATION:Aravete kool
CATEGORIES:Aravete kool
END:VEVENT
BEGIN:VEVENT
DTSTART;TZID=Europe/Tallinn:20260309T084000
DTEND;TZID=Europe/Tallinn:20260313T150000
DTSTAMP:20260422T003539
CREATED:20260302T075104Z
LAST-MODIFIED:20260302T075104Z
UID:4835-1773045600-1773414000@pohjajarvakool.ee
SUMMARY:Emakeelenädal
DESCRIPTION:09.03-13.03 Emakeelenädal \nVäärtustame oma kaunist emakeelt.
URL:https://pohjajarvakool.ee/sundmus/emakeelenadal-2/
LOCATION:Aravete kool
CATEGORIES:Aravete kool
END:VEVENT
BEGIN:VEVENT
DTSTART;TZID=Europe/Tallinn:20260313T091500
DTEND;TZID=Europe/Tallinn:20260313T100000
DTSTAMP:20260422T003539
CREATED:20260310T074729Z
LAST-MODIFIED:20260310T074754Z
UID:4867-1773393300-1773396000@pohjajarvakool.ee
SUMMARY:Külalisesineja 7.-9. klassile
DESCRIPTION:Oma erialast tuleb rääkima nooremteadur Kärolin Kork.
URL:https://pohjajarvakool.ee/sundmus/kulalisesineja-karolin-kork-7-9-klassile/
CATEGORIES:Albu kool
ATTACH;FMTTYPE=image/jpeg:https://pohjajarvakool.ee/wp-content/uploads/2026/03/Kulalisesineja-plakat.jpg
END:VEVENT
BEGIN:VEVENT
DTSTART;TZID=Europe/Tallinn:20260316T084000
DTEND;TZID=Europe/Tallinn:20260320T150000
DTSTAMP:20260422T003539
CREATED:20260302T075246Z
LAST-MODIFIED:20260302T082138Z
UID:4837-1773650400-1774018800@pohjajarvakool.ee
SUMMARY:Kevadenädal
DESCRIPTION:16.03-20.03  Kevadenädal \n16.03 Matemaatiline teatejooks \n20.03 Kevade algust tähistame stiilipäevaga Lilled ja liblikad
URL:https://pohjajarvakool.ee/sundmus/kevadenadal/
LOCATION:Aravete kool
CATEGORIES:Aravete kool
ATTACH;FMTTYPE=image/jpeg:https://pohjajarvakool.ee/wp-content/uploads/2026/03/stiilipaev.jpg
END:VEVENT
BEGIN:VEVENT
DTSTART;TZID=Europe/Tallinn:20260316T125500
DTEND;TZID=Europe/Tallinn:20260316T134000
DTSTAMP:20260422T003539
CREATED:20260310T074959Z
LAST-MODIFIED:20260313T073712Z
UID:4872-1773665700-1773668400@pohjajarvakool.ee
SUMMARY:Emakeelepäeva keelemängud
DESCRIPTION:Emakeelepäeva keelemängud 5.-9. klassile. \n30 aastat emakeelpäeva! \nMängud emakeeles\, emakeelega ja emakeelest.
URL:https://pohjajarvakool.ee/sundmus/emakeelenadal-3/
LOCATION:Albu kool
CATEGORIES:Albu kool
ATTACH;FMTTYPE=image/png:https://pohjajarvakool.ee/wp-content/uploads/2026/03/Happy-International-Mother-Language-Day-1.png
END:VEVENT
BEGIN:VEVENT
DTSTART;TZID=Europe/Tallinn:20260325T100000
DTEND;TZID=Europe/Tallinn:20260325T140000
DTSTAMP:20260422T003539
CREATED:20260302T075920Z
LAST-MODIFIED:20260302T075920Z
UID:4839-1774432800-1774447200@pohjajarvakool.ee
SUMMARY:Rahvusvahelise teatripäeva tähistamine
DESCRIPTION:25.03 Rahvusvahelise teatripäeva tähistamine. \nOma tööst laval ja ekraanil räägib Rakvere Teatri näitleja  Tarvo Sõmer.
URL:https://pohjajarvakool.ee/sundmus/rahvusvahelise-teatripaeva-tahistamine/
LOCATION:Aravete kool
CATEGORIES:Aravete kool
ATTACH;FMTTYPE=image/jpeg:https://pohjajarvakool.ee/wp-content/uploads/2026/03/teatripaev.jpg
END:VEVENT
BEGIN:VEVENT
DTSTART;TZID=Europe/Tallinn:20260330T084000
DTEND;TZID=Europe/Tallinn:20260402T150000
DTSTAMP:20260422T003539
CREATED:20260302T080201Z
LAST-MODIFIED:20260323T111252Z
UID:4842-1774860000-1775142000@pohjajarvakool.ee
SUMMARY:Kirikunädal
DESCRIPTION:30.03-02.04 Kirikunädal \nUurime\, mida tähendavad suur reede ning ülestõusmispühad. \n31.03  tuleb külla Järva-Madise koguduse õpetaja Jane Vain.
URL:https://pohjajarvakool.ee/sundmus/kirikunadal/
LOCATION:Aravete kool
CATEGORIES:Aravete kool
END:VEVENT
BEGIN:VEVENT
DTSTART;TZID=Europe/Tallinn:20260401T084000
DTEND;TZID=Europe/Tallinn:20260401T150000
DTSTAMP:20260422T003539
CREATED:20260302T080552Z
LAST-MODIFIED:20260330T091503Z
UID:4845-1775032800-1775055600@pohjajarvakool.ee
SUMMARY:Koolikotivaba päev
DESCRIPTION:Asenda täna koolikott millegi uue ja põnevaga! Mida omapärasem seda parem.
URL:https://pohjajarvakool.ee/sundmus/koolikotivaba-paev/
LOCATION:Aravete kool
CATEGORIES:Aravete kool
ATTACH;FMTTYPE=image/png:https://pohjajarvakool.ee/wp-content/uploads/2026/03/School-Bag-Product-Promotion-Facebook-Post-1.png
END:VEVENT
BEGIN:VEVENT
DTSTART;TZID=Europe/Tallinn:20260410T170000
DTEND;TZID=Europe/Tallinn:20260410T183000
DTSTAMP:20260422T003539
CREATED:20260330T091126Z
LAST-MODIFIED:20260330T091243Z
UID:4934-1775840400-1775845800@pohjajarvakool.ee
SUMMARY:Aravisioon
DESCRIPTION:Ootame kõiki Aravete kooli Aravisioonile 10. aprillil kell 17:00!
URL:https://pohjajarvakool.ee/sundmus/aravisioon-2/
LOCATION:Aravete kool
CATEGORIES:Aravete kool
ATTACH;FMTTYPE=image/jpeg:https://pohjajarvakool.ee/wp-content/uploads/2026/03/aravisioon_26.jpg
END:VEVENT
BEGIN:VEVENT
DTSTART;TZID=Europe/Tallinn:20260410T180000
DTEND;TZID=Europe/Tallinn:20260410T193000
DTSTAMP:20260422T003539
CREATED:20260318T105614Z
LAST-MODIFIED:20260407T070722Z
UID:4881-1775844000-1775849400@pohjajarvakool.ee
SUMMARY:Oma Kooli Tantsupidu
DESCRIPTION:TULEB TAAS – OMA KOOLI TANTSUPIDU!\n\n\nSel aastal vallutavad lava superstaarid\, sest tantsukavade teemaks on POP ARTISTID \n\n\nTule ela kaasa ja saa osa meie kooli ühest oodatuimast sündmusest!
URL:https://pohjajarvakool.ee/sundmus/oma-kooli-tantsupidu-2/
LOCATION:Albu rahvamaja
CATEGORIES:Albu kool
ATTACH;FMTTYPE=image/jpeg:https://pohjajarvakool.ee/wp-content/uploads/2026/03/3783ba67-1786-4432-9148-2c446ea2b76b.jpg
END:VEVENT
BEGIN:VEVENT
DTSTART;TZID=Europe/Tallinn:20260424T103000
DTEND;TZID=Europe/Tallinn:20260424T115000
DTSTAMP:20260422T003539
CREATED:20260406T110228Z
LAST-MODIFIED:20260414T063703Z
UID:4943-1777026600-1777031400@pohjajarvakool.ee
SUMMARY:Kohtumine vilistlastega
DESCRIPTION:24.04  tulevad vilistlased rääkima 8. ja 9. klassi noortele oma koolidest.
URL:https://pohjajarvakool.ee/sundmus/kohtumine-vilistlastega/
LOCATION:Aravete kool
CATEGORIES:Aravete kool
END:VEVENT
BEGIN:VEVENT
DTSTART;TZID=Europe/Tallinn:20260428T092500
DTEND;TZID=Europe/Tallinn:20260428T101000
DTSTAMP:20260422T003539
CREATED:20260406T110438Z
LAST-MODIFIED:20260414T062235Z
UID:4945-1777368300-1777371000@pohjajarvakool.ee
SUMMARY:Külas jutuvestja Piret Päär
DESCRIPTION:28.04 1.-4. klassi õpilastele tuleb külla Piret Päär\, kes  jutustab nõia- ja kollijutte.
URL:https://pohjajarvakool.ee/sundmus/kulas-piret-paar/
LOCATION:Aravete kool
CATEGORIES:Aravete kool
END:VEVENT
BEGIN:VEVENT
DTSTART;TZID=Europe/Tallinn:20260430T084000
DTEND;TZID=Europe/Tallinn:20260430T150000
DTSTAMP:20260422T003539
CREATED:20260407T071650Z
LAST-MODIFIED:20260407T071731Z
UID:4950-1777538400-1777561200@pohjajarvakool.ee
SUMMARY:Volbripäev
DESCRIPTION:Üheks päevaks muutub kool Walburgi mäeks\, kuhu kogunevad kõik nõiad\, sortsid\, kratid ja võlurid.
URL:https://pohjajarvakool.ee/sundmus/volbripaev/
LOCATION:Aravete kool
CATEGORIES:Aravete kool
ATTACH;FMTTYPE=image/jpeg:https://pohjajarvakool.ee/wp-content/uploads/2026/04/8697e53d-04c5-4528-96ae-ff19cfbc0074.jpg
END:VEVENT
BEGIN:VEVENT
DTSTART;TZID=Europe/Tallinn:20260508T170000
DTEND;TZID=Europe/Tallinn:20260508T183000
DTSTAMP:20260422T003539
CREATED:20260414T062556Z
LAST-MODIFIED:20260414T063121Z
UID:4954-1778259600-1778265000@pohjajarvakool.ee
SUMMARY:Kevadkontsert
DESCRIPTION:Ootame teid näitusele ja kontserdile 8. mail kell 17.00
URL:https://pohjajarvakool.ee/sundmus/kevadkontsert-3/
LOCATION:Aravete kool
CATEGORIES:Aravete kool
END:VEVENT
END:VCALENDAR