BEGIN:VCALENDAR
VERSION:2.0
PRODID:-//Põhja-Järva Kool - ECPv6.15.18//NONSGML v1.0//EN
CALSCALE:GREGORIAN
METHOD:PUBLISH
X-WR-CALNAME:Põhja-Järva Kool
X-ORIGINAL-URL:https://pohjajarvakool.ee
X-WR-CALDESC:Events for Põhja-Järva Kool
REFRESH-INTERVAL;VALUE=DURATION:PT1H
X-Robots-Tag:noindex
X-PUBLISHED-TTL:PT1H
BEGIN:VTIMEZONE
TZID:Europe/Tallinn
BEGIN:DAYLIGHT
TZOFFSETFROM:+0200
TZOFFSETTO:+0300
TZNAME:EEST
DTSTART:20230326T010000
END:DAYLIGHT
BEGIN:STANDARD
TZOFFSETFROM:+0300
TZOFFSETTO:+0200
TZNAME:EET
DTSTART:20231029T010000
END:STANDARD
BEGIN:DAYLIGHT
TZOFFSETFROM:+0200
TZOFFSETTO:+0300
TZNAME:EEST
DTSTART:20240331T010000
END:DAYLIGHT
BEGIN:STANDARD
TZOFFSETFROM:+0300
TZOFFSETTO:+0200
TZNAME:EET
DTSTART:20241027T010000
END:STANDARD
BEGIN:DAYLIGHT
TZOFFSETFROM:+0200
TZOFFSETTO:+0300
TZNAME:EEST
DTSTART:20250330T010000
END:DAYLIGHT
BEGIN:STANDARD
TZOFFSETFROM:+0300
TZOFFSETTO:+0200
TZNAME:EET
DTSTART:20251026T010000
END:STANDARD
END:VTIMEZONE
BEGIN:VEVENT
DTSTART;TZID=Europe/Tallinn:20240926T173000
DTEND;TZID=Europe/Tallinn:20240926T193000
DTSTAMP:20260422T144207
CREATED:20240916T055043Z
LAST-MODIFIED:20240926T050752Z
UID:2947-1727371800-1727379000@pohjajarvakool.ee
SUMMARY:Lastevanemate üldkoosolek Albu koolis
DESCRIPTION:26. septembril ootame lapsevanemaid  üldkoosolekule! \nTeemad:\n– eelmise õppeaasta kokkuvõte\,\n– ülevaade selle õppeaasta planeeritud tegevustest ja muutunud korraldustest\,\n– ülevaade hoolekogu tööst\,\n– Stuudiumi tutvustus ja väike koolitus (vanematele\, kes soovivad).
URL:https://pohjajarvakool.ee/sundmus/lastevanemate-uldkoosolek-albu-koolis/
LOCATION:Albu kool
CATEGORIES:Albu kool
END:VEVENT
BEGIN:VEVENT
DTSTART;TZID=Europe/Tallinn:20240926T080000
DTEND;TZID=Europe/Tallinn:20240926T093000
DTSTAMP:20260422T144207
CREATED:20240912T141714Z
LAST-MODIFIED:20240924T121643Z
UID:2930-1727337600-1727343000@pohjajarvakool.ee
SUMMARY:Euroopa keelte päev
DESCRIPTION:Euroopa keelte päev – Gruusia. Põnevad ettekanded klassidelt.
URL:https://pohjajarvakool.ee/sundmus/euroopa-keelte-paev/
LOCATION:Aravete kool
CATEGORIES:Aravete kool
END:VEVENT
BEGIN:VEVENT
DTSTART;TZID=Europe/Tallinn:20240925T180000
DTEND;TZID=Europe/Tallinn:20240925T200000
DTSTAMP:20260422T144207
CREATED:20240912T141607Z
LAST-MODIFIED:20240912T141607Z
UID:2928-1727287200-1727294400@pohjajarvakool.ee
SUMMARY:Videvikujooks
DESCRIPTION:Videvikujooks toimub Aravete Kangrumäel kell 18.00-20.00
URL:https://pohjajarvakool.ee/sundmus/videvikujooks/
CATEGORIES:Aravete kool
END:VEVENT
BEGIN:VEVENT
DTSTART;TZID=Europe/Tallinn:20240925T130000
DTEND;TZID=Europe/Tallinn:20240925T140000
DTSTAMP:20260422T144207
CREATED:20240917T082728Z
LAST-MODIFIED:20240917T082728Z
UID:3004-1727269200-1727272800@pohjajarvakool.ee
SUMMARY:Hekiringijooks 2024
DESCRIPTION:Albu kooli traditsiooniline hekiringijooks\, kus iga klass (võistkond) jookseb 8 hekiringi.\n\nVÕISTLUSKLASSID: \n1.-4. klass \n5.-7. klass \n8.-9. klass ja õpetajad \n\nOotame hekiringijooksule ka lapsevanemaid. Pange tiim kokku ning tulge ja tundke koos kooliperega jooksmisest rõõmu \n 
URL:https://pohjajarvakool.ee/sundmus/hekiringijooks-2024/
LOCATION:Albu kool
CATEGORIES:Albu kool
ATTACH;FMTTYPE=image/png:https://pohjajarvakool.ee/wp-content/uploads/2024/09/HEKIRINGIJOOKS-1.png
END:VEVENT
BEGIN:VEVENT
DTSTART;VALUE=DATE:20240921
DTEND;VALUE=DATE:20240922
DTSTAMP:20260422T144207
CREATED:20240912T141440Z
LAST-MODIFIED:20240916T055121Z
UID:2925-1726876800-1726963199@pohjajarvakool.ee
SUMMARY:Maal elamise päev
DESCRIPTION:Maal elamise päev Aravetel algab juba 20. septembril\, kui hommikul saab külastada Terasmani ja Saint-Gobaini tehaseid. \n21. septembril toimuvad: \n\nArutelud vallaelu ja lasteaia ehituse teemadel.\nPõnevaid nippe saab tervisliku toitumise ja treeningu koolituselt.\nAvatud on Rebase talu õunte (koolimajas) ja Aravete Agro tehnika näitus.\nNaiskodukaitse räägib evakuatsioonikoti pakkimisest.\nAvatud on lasteaed\, kool\, raamatukogu.\nSporti armastav inimene saab osaleda seiklusmängus\, tutvuda/sõita krossi või karti või teha jõudu Jõujaamas ning näha Järva valla spordikeskuse võimalusi.\nAravete piirkonnaga saab tutvuda läbi kunstituuri või hoopiski bussireisil.\nSüüa saab ka!\nUksed teeb lahti Mägise aiand\, kus asub näitus Piibe Teatri etendusest “Vaikuse saar”.
URL:https://pohjajarvakool.ee/sundmus/maal-elamise-paev/
LOCATION:Aravete kool
CATEGORIES:Aravete kool
END:VEVENT
BEGIN:VEVENT
DTSTART;TZID=Europe/Tallinn:20240916T080000
DTEND;TZID=Europe/Tallinn:20240920T143000
DTSTAMP:20260422T144207
CREATED:20240917T083302Z
LAST-MODIFIED:20240917T083302Z
UID:3008-1726473600-1726842600@pohjajarvakool.ee
SUMMARY:Maailmakoristuspäev
DESCRIPTION:Albu kool võtab sellel nädalal osa Maailmakoristuspäevast\, et pöörata tähelepanu meid ümbritseva keskkonna hoidmisele. Keskkonnast\, prügist ja loodushoiust räägitakse erinevate tundide raames ning ette võetakse ka lähiümbrusest prügi korjamine.
URL:https://pohjajarvakool.ee/sundmus/maailmakoristuspaev/
LOCATION:Albu kool
CATEGORIES:Albu kool
ATTACH;FMTTYPE=image/png:https://pohjajarvakool.ee/wp-content/uploads/2024/09/maailmakoristus_kooli_plakat-2024.png
END:VEVENT
BEGIN:VEVENT
DTSTART;VALUE=DATE:20240910
DTEND;VALUE=DATE:20240911
DTSTAMP:20260422T144207
CREATED:20240916T054721Z
LAST-MODIFIED:20240916T054721Z
UID:2943-1725926400-1726012799@pohjajarvakool.ee
SUMMARY:KIK õppekäik VI-IX klass
DESCRIPTION:Albu kooli VI-IX klassi KIK õppekäik Padise kloostrisse\, väljasõit kl 8.20
URL:https://pohjajarvakool.ee/sundmus/kik-oppekaik-vi-ix-klass/
LOCATION:Albu kool
CATEGORIES:Albu kool
END:VEVENT
BEGIN:VEVENT
DTSTART;TZID=Europe/Tallinn:20240905T180000
DTEND;TZID=Europe/Tallinn:20240905T183000
DTSTAMP:20260422T144207
CREATED:20240827T080636Z
LAST-MODIFIED:20240827T081046Z
UID:2589-1725559200-1725561000@pohjajarvakool.ee
SUMMARY:Ambla kooli lastevanemate koosolek
DESCRIPTION:Ambla kooli lastevanemate koosolek toimub 5. septembril kell 18.00. \nUue õppekava rakendamine toob kaasa terve hulga muudatusi\, palun tule kuulama ja küsima!
URL:https://pohjajarvakool.ee/sundmus/ambla-kooli-lastevanemate-koosolek/
LOCATION:Ambla kool
CATEGORIES:Ambla kool
END:VEVENT
BEGIN:VEVENT
DTSTART;TZID=Europe/Tallinn:20240903T180000
DTEND;TZID=Europe/Tallinn:20240903T193000
DTSTAMP:20260422T144207
CREATED:20240823T104046Z
LAST-MODIFIED:20240823T104046Z
UID:2543-1725386400-1725391800@pohjajarvakool.ee
SUMMARY:Aravete kooli 1.-6. klassi vanemate ühine koosolek
DESCRIPTION:Ootame kõiki 1.-6. klassi vanemaid 3. septembril kell 18.00 Aravete kooli aulasse ühisele koosolekule. \n 
URL:https://pohjajarvakool.ee/sundmus/aravete-kooli-1-6-klassi-vanemate-uhine-koosolek/
LOCATION:Aravete kool
CATEGORIES:Aravete kool
END:VEVENT
BEGIN:VEVENT
DTSTART;TZID=Europe/Tallinn:20240903T090000
DTEND;TZID=Europe/Tallinn:20240903T130000
DTSTAMP:20260422T144207
CREATED:20240814T164758Z
LAST-MODIFIED:20240814T164758Z
UID:2304-1725354000-1725368400@pohjajarvakool.ee
SUMMARY:Reipalt koolipinki
DESCRIPTION:Ka sel aastal alustame õppeaastat traditsioonilise Reipalt koolipinki üritusega.
URL:https://pohjajarvakool.ee/sundmus/reipalt-koolipinki-2/
LOCATION:Albu kool
CATEGORIES:Albu kool
END:VEVENT
BEGIN:VEVENT
DTSTART;TZID=Europe/Tallinn:20240902T100000
DTEND;TZID=Europe/Tallinn:20240902T120000
DTSTAMP:20260422T144207
CREATED:20240813T164001Z
LAST-MODIFIED:20240830T145457Z
UID:2240-1725271200-1725278400@pohjajarvakool.ee
SUMMARY:Õppeaasta avaaktus Albu koolis
DESCRIPTION:Ootame Sind aktusele 2. septembril kl 10.00. \nPeale aktust klassijuhataja tund ja pidulik kringlisöömine toiduaidas.\nII-IX kl riietus pidulik (valge pluus/triiksärk\, vest/koolivest\, tumedad püksid/seelik).\n\nKoolibuss: \nAravete 8.57\nKete bussijaam 9.02\nAhula lasteaed 9.07\nSeidla bussijaam 9.10\nKaalepi 9.12\nMetskonna 9.14\nJärva-Madise 9.16\nVargamäe rist 9.18\nAlbu Rahvamaja 9.27\nTagasi koju Albust 12.00 \nAuto:\nMägede 09:10\nLehtmetsa 09:15\nPeedu 09:17\nAlbu 09:25\nKaalepi küla 09:35\nAlbu 09:45\nTagasi koju  – Mägede suund 12.10\n     Kaalepi suund 12.30\n 
URL:https://pohjajarvakool.ee/sundmus/1-septembri-aktus-albu-koolis/
LOCATION:Albu kool
CATEGORIES:Albu kool
END:VEVENT
BEGIN:VEVENT
DTSTART;TZID=Europe/Tallinn:20240902T090000
DTEND;TZID=Europe/Tallinn:20240902T123000
DTSTAMP:20260422T144207
CREATED:20240814T164553Z
LAST-MODIFIED:20240830T220247Z
UID:2302-1725267600-1725280200@pohjajarvakool.ee
SUMMARY:Reipalt koolipinki Aravete koolis
DESCRIPTION:Alustame õppeaastat traditsioonilise Reipalt koolipinki üritusega kell 9.00 \nSelga ilmastikuga sobivad riided ja jalga mugavad jalatsid! \nSel korral toimub fotojaht. Üritust viib läbi Triatloniakadeemia. \nKogunemine kooli ees. \nBussid kodudesse kell 12.25
URL:https://pohjajarvakool.ee/sundmus/reipalt-koolipinki/
LOCATION:Aravete kool
CATEGORIES:Aravete kool
ATTACH;FMTTYPE=image/jpeg:https://pohjajarvakool.ee/wp-content/uploads/2024/08/reipalt-koolipinki.jpg
END:VEVENT
BEGIN:VEVENT
DTSTART;TZID=Europe/Tallinn:20240902T083000
DTEND;TZID=Europe/Tallinn:20240902T110000
DTSTAMP:20260422T144207
CREATED:20240813T164308Z
LAST-MODIFIED:20240830T212846Z
UID:2242-1725265800-1725274800@pohjajarvakool.ee
SUMMARY:Õppeaasta avaaktus Ambla koolis
DESCRIPTION:Ambla koolis toimub õppeaasta avaaktus 2. septembril kell 8.30.
URL:https://pohjajarvakool.ee/sundmus/1-septembri-aktus-ambla-koolis/
LOCATION:Ambla kool
CATEGORIES:Ambla kool
END:VEVENT
BEGIN:VEVENT
DTSTART;TZID=Europe/Tallinn:20240901T100000
DTEND;TZID=Europe/Tallinn:20240901T113000
DTSTAMP:20260422T144207
CREATED:20240812T091912Z
LAST-MODIFIED:20240823T105615Z
UID:2167-1725184800-1725190200@pohjajarvakool.ee
SUMMARY:1. septembri aktus Aravete koolis
DESCRIPTION:Aravete koolis toimub õppeaasta avaaktus 1. septembril kell 10.00.
URL:https://pohjajarvakool.ee/sundmus/1-septembri-aktus-aravete-koolis/
LOCATION:Aravete kool
CATEGORIES:Aravete kool
ATTACH;FMTTYPE=image/jpeg:https://pohjajarvakool.ee/wp-content/uploads/2024/08/bussid.jpg
END:VEVENT
BEGIN:VEVENT
DTSTART;TZID=Europe/Tallinn:20240619T100000
DTEND;TZID=Europe/Tallinn:20240619T150000
DTSTAMP:20260422T144207
CREATED:20240613T195434Z
LAST-MODIFIED:20240618T093301Z
UID:1476-1718791200-1718809200@pohjajarvakool.ee
SUMMARY:Järva valla õpetajate spordipäev Aravete kooli pargis
DESCRIPTION:
URL:https://pohjajarvakool.ee/sundmus/opetajate-spordipaev/
LOCATION:Aravete kool
CATEGORIES:Aravete kool
END:VEVENT
BEGIN:VEVENT
DTSTART;TZID=Europe/Tallinn:20240618T180000
DTEND;TZID=Europe/Tallinn:20240618T193000
DTSTAMP:20260422T144207
CREATED:20240618T092626Z
LAST-MODIFIED:20240618T093148Z
UID:1594-1718733600-1718739000@pohjajarvakool.ee
SUMMARY:Põhja-Järva Kooli lastevanemate üldkoosolek
DESCRIPTION:Armsad vanemad\, ootame teid 18. juunil lastevanemate üldkoosolekule! \n\nSügisel hakkab kehtima uus riiklik õppekava ja sellest tulenevat pidid kõik koolid viima enda õppekavad riikliku õppekavaga vastavusse. Oleme kolme kooli õpetajatega aasta jooksul õppekavaga tõsist tööd teinud. Selle on üle vaadanud ka hoolekogu. \nKoosolekul räägime uuel õppeaastal toimuvatest muudatustest ja uuendustest. \n1. Räägime uuest sügisel kehtima hakkavast õppekavast; \n2. Kehtima hakkab uus loovtööde tegemise kord\, mis on senisest oluliselt erinev. Tutvustame uut korda. \n3. Tutvustame uut kehtima hakkavat hindamise korda (samuti õppekava osa). \n4. Räägime E-koolist Stuudiumile üleminekust. \n5. Tutvustame kooli sümboolikaga rõivaid (pusad\, särgid\, jne)\, millest võiks kujuneda korrektne kooliriietus.
URL:https://pohjajarvakool.ee/sundmus/pohja-jarva-kooli-lastevanemate-uldkoosolek/
LOCATION:Aravete kool
CATEGORIES:Albu kool,Ambla kool,Aravete kool
END:VEVENT
BEGIN:VEVENT
DTSTART;TZID=Europe/Tallinn:20240615T130000
DTEND;TZID=Europe/Tallinn:20240615T160000
DTSTAMP:20260422T144207
CREATED:20240613T180740Z
LAST-MODIFIED:20240613T180941Z
UID:1461-1718456400-1718467200@pohjajarvakool.ee
SUMMARY:Aravete kooli 9. klassi lõpuaktus
DESCRIPTION:Olete oodatud Aravete kooli lõpuaktusele 15. juunil 2024 a
URL:https://pohjajarvakool.ee/sundmus/aravete-kooli-9-klassi-lopuaktus/
LOCATION:Aravete kool
CATEGORIES:Aravete kool
END:VEVENT
BEGIN:VEVENT
DTSTART;TZID=Europe/Tallinn:20240614T180000
DTEND;TZID=Europe/Tallinn:20240614T180000
DTSTAMP:20260422T144207
CREATED:20240614T130326Z
LAST-MODIFIED:20240614T130430Z
UID:1478-1718388000-1718388000@pohjajarvakool.ee
SUMMARY:Ambla kooli lõpuaktus
DESCRIPTION:Reedel lõpetavad Ambla kooli viimased üheksandikud.\nLõpuaktus algab 14. juunil kell 18.00.
URL:https://pohjajarvakool.ee/sundmus/ambla-kooli-lopuaktus/
LOCATION:Ambla kool
CATEGORIES:Ambla kool
END:VEVENT
BEGIN:VEVENT
DTSTART;TZID=Europe/Tallinn:20240614T160000
DTEND;TZID=Europe/Tallinn:20240614T180000
DTSTAMP:20260422T144207
CREATED:20240613T181213Z
LAST-MODIFIED:20240613T195346Z
UID:1464-1718380800-1718388000@pohjajarvakool.ee
SUMMARY:Albu kooli lõpuaktus
DESCRIPTION:Olete oodatud reedel\, 14. juunil meie kooli 9. klassi lõpuaktusele!
URL:https://pohjajarvakool.ee/sundmus/albu-kooli-lopuaktus/
LOCATION:Albu kool
CATEGORIES:Albu kool
END:VEVENT
END:VCALENDAR