BEGIN:VCALENDAR
VERSION:2.0
PRODID:-//Põhja-Järva Kool - ECPv6.15.18//NONSGML v1.0//EN
CALSCALE:GREGORIAN
METHOD:PUBLISH
X-WR-CALNAME:Põhja-Järva Kool
X-ORIGINAL-URL:https://pohjajarvakool.ee
X-WR-CALDESC:Events for Põhja-Järva Kool
REFRESH-INTERVAL;VALUE=DURATION:PT1H
X-Robots-Tag:noindex
X-PUBLISHED-TTL:PT1H
BEGIN:VTIMEZONE
TZID:Europe/Tallinn
BEGIN:DAYLIGHT
TZOFFSETFROM:+0200
TZOFFSETTO:+0300
TZNAME:EEST
DTSTART:20240331T010000
END:DAYLIGHT
BEGIN:STANDARD
TZOFFSETFROM:+0300
TZOFFSETTO:+0200
TZNAME:EET
DTSTART:20241027T010000
END:STANDARD
BEGIN:DAYLIGHT
TZOFFSETFROM:+0200
TZOFFSETTO:+0300
TZNAME:EEST
DTSTART:20250330T010000
END:DAYLIGHT
BEGIN:STANDARD
TZOFFSETFROM:+0300
TZOFFSETTO:+0200
TZNAME:EET
DTSTART:20251026T010000
END:STANDARD
BEGIN:DAYLIGHT
TZOFFSETFROM:+0200
TZOFFSETTO:+0300
TZNAME:EEST
DTSTART:20260329T010000
END:DAYLIGHT
BEGIN:STANDARD
TZOFFSETFROM:+0300
TZOFFSETTO:+0200
TZNAME:EET
DTSTART:20261025T010000
END:STANDARD
END:VTIMEZONE
BEGIN:VEVENT
DTSTART;TZID=Europe/Tallinn:20250922T080000
DTEND;TZID=Europe/Tallinn:20250926T150000
DTSTAMP:20260422T032421
CREATED:20250908T073111Z
LAST-MODIFIED:20250908T073111Z
UID:4178-1758528000-1758898800@pohjajarvakool.ee
SUMMARY:Liiklusnädal
DESCRIPTION:
URL:https://pohjajarvakool.ee/sundmus/liiklusnadal/
LOCATION:Aravete kool
CATEGORIES:Aravete kool
END:VEVENT
BEGIN:VEVENT
DTSTART;TZID=Europe/Tallinn:20250925T130000
DTEND;TZID=Europe/Tallinn:20250925T143000
DTSTAMP:20260422T032421
CREATED:20250915T090237Z
LAST-MODIFIED:20250923T075423Z
UID:4239-1758805200-1758810600@pohjajarvakool.ee
SUMMARY:Spordinädal - Hekiringi jooksuvõistlus
DESCRIPTION:Spordinädala raames toimub 25.09 kell 13.00 ülekooliline teatejooksuvõistlus. \nVÕISTLUSKLASSID: \n• 1.klass\, 2.klass\, 3.klass – 6 ringi\, üks jooksja võib joosta pool ringi \n• 4.klass\, 5.-6.klass\, 7.klass – 8 ringi\, iga jooksja jookseb ühe ringi \n• 8.klass\, 9.klass\, õpetajad/töötajad – 8 ringi\, iga jooksja jookseb ühe ringi \nJooksmine toimub teatejooksu põhimõttel\, teade antakse oma võistkonna järgmisele võistlejale teatepulga üleandmisel\, selleks märgitud alas. \nAUTASUSTAMINE: igas vanuseklassis kuulutatakse välja kõige kiirem võistkond. Iga vanuseklassi võitjale diplom\, auhinnaks saab iga võistkond enda valmistatud maitsva koogi/tordi. \n 
URL:https://pohjajarvakool.ee/sundmus/spordinadal-hekiringi-jooksuvoistlus/
LOCATION:Albu kool
CATEGORIES:Albu kool
ATTACH;FMTTYPE=image/png:https://pohjajarvakool.ee/wp-content/uploads/2025/09/Brown-Illustration-Competition-Running-Certificate-Landscape.png
END:VEVENT
BEGIN:VEVENT
DTSTART;VALUE=DATE:20251002
DTEND;VALUE=DATE:20251003
DTSTAMP:20260422T032421
CREATED:20250915T101606Z
LAST-MODIFIED:20250925T164849Z
UID:4258-1759363200-1759449599@pohjajarvakool.ee
SUMMARY:Järvamaa koolinoorte sügiskross Aravetel
DESCRIPTION:
URL:https://pohjajarvakool.ee/sundmus/jarvamaa-koolinoorte-sugiskross-aravetel/
LOCATION:Aravete kool
CATEGORIES:Albu kool
END:VEVENT
BEGIN:VEVENT
DTSTART;VALUE=DATE:20251003
DTEND;VALUE=DATE:20251004
DTSTAMP:20260422T032421
CREATED:20250915T101121Z
LAST-MODIFIED:20250919T121204Z
UID:4256-1759449600-1759535999@pohjajarvakool.ee
SUMMARY:Õpetajate päev
DESCRIPTION:
URL:https://pohjajarvakool.ee/sundmus/opetajate-paev/
CATEGORIES:Albu kool,Aravete kool
END:VEVENT
BEGIN:VEVENT
DTSTART;VALUE=DATE:20251014
DTEND;VALUE=DATE:20251015
DTSTAMP:20260422T032421
CREATED:20250915T102027Z
LAST-MODIFIED:20250915T102027Z
UID:4260-1760400000-1760486399@pohjajarvakool.ee
SUMMARY:KIK õppekäik I-IV klass
DESCRIPTION:Toimub KIK õppekäik Tipu Looduskooli Viljandimaal I-IV klassile.
URL:https://pohjajarvakool.ee/sundmus/kik-oppekaik-i-iv-klass/
CATEGORIES:Albu kool
END:VEVENT
BEGIN:VEVENT
DTSTART;TZID=Europe/Tallinn:20251016T170000
DTEND;TZID=Europe/Tallinn:20251016T190000
DTSTAMP:20260422T032421
CREATED:20250915T102151Z
LAST-MODIFIED:20251013T081202Z
UID:4262-1760634000-1760641200@pohjajarvakool.ee
SUMMARY:Albu kooli sünnipäevakontsert
DESCRIPTION:Meie kool saab 104. aastaseks\, ootame teid sünnipäevakontserdile vaatama ja kuulama toredaid etteasteid! Kontsert algab kell 17.00 Albu rahvamajas ja sünnipäeva puhul on ikka ka väike pidulaud. \nHead õpilased\, tunnid toimuvad tavapärase tunniplaani järgi. Palun pane selga kooli pidulik riietus: kooli vest\, valge või hele pluus\, mustad või tumedad püksid/seelik. \nÕpilasliini ajad täpsustuvad.
URL:https://pohjajarvakool.ee/sundmus/albu-kooli-sunnipaevakontsert-2/
LOCATION:Albu rahvamaja
CATEGORIES:Albu kool
ATTACH;FMTTYPE=image/jpeg:https://pohjajarvakool.ee/wp-content/uploads/2025/09/aLBU-KOOLI-104.-SUNNIPAEVALE-PUHENDATUD.jpg
END:VEVENT
BEGIN:VEVENT
DTSTART;VALUE=DATE:20251017
DTEND;VALUE=DATE:20251018
DTSTAMP:20260422T032421
CREATED:20250926T074050Z
LAST-MODIFIED:20250926T074133Z
UID:4414-1760659200-1760745599@pohjajarvakool.ee
SUMMARY:Tordivõistlus "Maitsev raamat"
DESCRIPTION:
URL:https://pohjajarvakool.ee/sundmus/tordivoistlus-maitsev-raamat/
LOCATION:Aravete kool
CATEGORIES:Aravete kool
ATTACH;FMTTYPE=image/png:https://pohjajarvakool.ee/wp-content/uploads/2025/09/maitsev.png
END:VEVENT
BEGIN:VEVENT
DTSTART;TZID=Europe/Tallinn:20251017T084000
DTEND;TZID=Europe/Tallinn:20251017T103000
DTSTAMP:20260422T032421
CREATED:20250925T150737Z
LAST-MODIFIED:20250925T150927Z
UID:4410-1760690400-1760697000@pohjajarvakool.ee
SUMMARY:Ettelugemispäev
DESCRIPTION:Ootame lapsevanemaid 17. oktoobri hommikul Aravete kooli lastele ette lugema! \nAndke oma osalemisest teada 13. oktoobriks oma lapse klassijuhatajale\, et saaksime ajakava paremini planeerida.
URL:https://pohjajarvakool.ee/sundmus/ettelugemispaev/
LOCATION:Aravete kool
CATEGORIES:Aravete kool
ATTACH;FMTTYPE=image/jpeg:https://pohjajarvakool.ee/wp-content/uploads/2025/09/raamat.jpg
END:VEVENT
BEGIN:VEVENT
DTSTART;TZID=Europe/Tallinn:20251027T080000
DTEND;TZID=Europe/Tallinn:20251031T170000
DTSTAMP:20260422T032421
CREATED:20251026T114338Z
LAST-MODIFIED:20251026T114422Z
UID:4502-1761552000-1761930000@pohjajarvakool.ee
SUMMARY:Halloweeni nädal
DESCRIPTION:27.10- 31.10 Halloweeni nädal\, mille lõpetab 31.10 Halloweeni stiilipäev.
URL:https://pohjajarvakool.ee/sundmus/halloweeni-nadal/
LOCATION:Aravete kool
CATEGORIES:Aravete kool
END:VEVENT
BEGIN:VEVENT
DTSTART;TZID=Europe/Tallinn:20251028T100000
DTEND;TZID=Europe/Tallinn:20251028T143000
DTSTAMP:20260422T032421
CREATED:20251026T114528Z
LAST-MODIFIED:20251026T115356Z
UID:4505-1761645600-1761661800@pohjajarvakool.ee
SUMMARY:Kratilood Aravete kultuurimajas
DESCRIPTION:28.10 Kratilood Aravete kultuurimajas – koolinoorte jutuvestjate konkurss.
URL:https://pohjajarvakool.ee/sundmus/kratilood/
LOCATION:Aravete kultuurimaja
CATEGORIES:Aravete kool
END:VEVENT
BEGIN:VEVENT
DTSTART;TZID=Europe/Tallinn:20251031T180000
DTEND;TZID=Europe/Tallinn:20251031T210000
DTSTAMP:20260422T032421
CREATED:20251031T112020Z
LAST-MODIFIED:20251031T112020Z
UID:4561-1761933600-1761944400@pohjajarvakool.ee
SUMMARY:Halloweeni pidu Albu rahvamajas
DESCRIPTION:31. oktoobril kell 18.00-21.00 toimub Albu rahvamajas Albu ja Aravete koolide noortele halloweeni pidu. Pane selga põnev kostüüm ning võta kaasa midagi maitsvat ühisele snäkilauale.\nAvatud on fotonurk\, toimuvad mängud\, DJ Egert mängib muusikat\, jagatakse ka auhindasid.
URL:https://pohjajarvakool.ee/sundmus/halloweeni-pidu-albu-rahvamajas-2/
LOCATION:Albu rahvamaja
CATEGORIES:Albu kool,Aravete kool
END:VEVENT
BEGIN:VEVENT
DTSTART;TZID=Europe/Tallinn:20251103T082000
DTEND;TZID=Europe/Tallinn:20251103T082000
DTSTAMP:20260422T032421
CREATED:20251031T110846Z
LAST-MODIFIED:20251031T110846Z
UID:4553-1762158000-1762158000@pohjajarvakool.ee
SUMMARY:Vaimse tervise seminar noortelt noortele
DESCRIPTION:Meie kooli vaimse tervise saadikud annavad 1.-4. klassi õpilastele ülevaate vaimse tervise vitamiinidest.
URL:https://pohjajarvakool.ee/sundmus/vaimse-tervise-seminar-noortelt-noortele/
LOCATION:Albu kool
CATEGORIES:Albu kool
END:VEVENT
BEGIN:VEVENT
DTSTART;TZID=Europe/Tallinn:20251103T084000
DTEND;TZID=Europe/Tallinn:20251107T150000
DTSTAMP:20260422T032421
CREATED:20251031T092132Z
LAST-MODIFIED:20251105T085613Z
UID:4551-1762159200-1762527600@pohjajarvakool.ee
SUMMARY:Hingedenädal
DESCRIPTION:03.11-07.11 Hingedenädal \n5. novembril tuleb Ründo Mülts  rääkima hingedeajast \n\n08:40–09:25 1.-4. klass\n09:35–10:20 5.-9. klass
URL:https://pohjajarvakool.ee/sundmus/hingedenadal/
LOCATION:Aravete kool
CATEGORIES:Aravete kool
END:VEVENT
BEGIN:VEVENT
DTSTART;TZID=Europe/Tallinn:20251104T080000
DTEND;TZID=Europe/Tallinn:20251104T150000
DTSTAMP:20260422T032421
CREATED:20251105T091140Z
LAST-MODIFIED:20251105T091140Z
UID:4573-1762243200-1762268400@pohjajarvakool.ee
SUMMARY:4. klass Niguliste muuseumis
DESCRIPTION:04.11 4. klass Niguliste muuseumis
URL:https://pohjajarvakool.ee/sundmus/4-klass-niguliste-muuseumis/
CATEGORIES:Aravete kool
END:VEVENT
BEGIN:VEVENT
DTSTART;TZID=Europe/Tallinn:20251104T101000
DTEND;TZID=Europe/Tallinn:20251104T113000
DTSTAMP:20260422T032421
CREATED:20251031T111125Z
LAST-MODIFIED:20251031T111125Z
UID:4555-1762251000-1762255800@pohjajarvakool.ee
SUMMARY:Etlusvõistluse "Ellen Niiduga Midrimaal" Albu kooli voor 1.-6. klass
DESCRIPTION:Voor toimub eraldi ruumides kooliastmete kaupa samaaegselt. Kõik õpilased loevad peast ühe Ellen Niidu luuletuse.
URL:https://pohjajarvakool.ee/sundmus/etlusvoistluse-ellen-niiduga-midrimaal-albu-kooli-voor-1-6-klass/
LOCATION:Albu kool
CATEGORIES:Albu kool
END:VEVENT
BEGIN:VEVENT
DTSTART;TZID=Europe/Tallinn:20251106T080000
DTEND;TZID=Europe/Tallinn:20251106T170000
DTSTAMP:20260422T032421
CREATED:20251031T111443Z
LAST-MODIFIED:20251031T111443Z
UID:4557-1762416000-1762448400@pohjajarvakool.ee
SUMMARY:Järvamaa koolide 1.-3. klassi rahvastepalli MV Paides
DESCRIPTION:
URL:https://pohjajarvakool.ee/sundmus/jarvamaa-koolide-1-3-klassi-rahvastepalli-mv-paides/
CATEGORIES:Albu kool
END:VEVENT
BEGIN:VEVENT
DTSTART;TZID=Europe/Tallinn:20251106T083000
DTEND;TZID=Europe/Tallinn:20251106T170000
DTSTAMP:20260422T032421
CREATED:20251031T111639Z
LAST-MODIFIED:20251031T111639Z
UID:4559-1762417800-1762448400@pohjajarvakool.ee
SUMMARY:7.-9. klass Tervisemuuseumis Tallinnas.
DESCRIPTION:Esmaabi ABC töötuba.
URL:https://pohjajarvakool.ee/sundmus/7-9-klass-tervisemuuseumis-tallinnas/
CATEGORIES:Albu kool
END:VEVENT
BEGIN:VEVENT
DTSTART;TZID=Europe/Tallinn:20251107T120000
DTEND;TZID=Europe/Tallinn:20251107T150000
DTSTAMP:20260422T032421
CREATED:20251105T090108Z
LAST-MODIFIED:20251105T091939Z
UID:4569-1762516800-1762527600@pohjajarvakool.ee
SUMMARY:Töötuba õpetajatele “Mis on tehisintellekt ja kuidas see töötab”
DESCRIPTION:7. novembril toimub Põhja-Järva Kooli õpetajatele  IT töötuba “Mis on tehisintellekt ja kuidas see töötab”. \nKoolitus pakub süvendatud praktilist lähenemist tehisintellekti (TI) mõistmisele ja kasutamisele õppetöös. Käsitletakse TI aluseid\, sealhulgas mõisted\, ajalugu\, keelemudelite treenimine ja seadusandlus. \nTöötuba viiakse läbi „Teaduspõhine õppekavade ja õppevara arendamine ning rakendamine ja õppekvaliteedi hindamine\, personaalsed õpiteed ja õpianalüütika“ ehk ÕKVA+ tegevuste raames.
URL:https://pohjajarvakool.ee/sundmus/it-tootuba-mis-on-tehisintellekt-ja-kuidas-see-tootab/
LOCATION:Aravete kool
CATEGORIES:Albu kool,Aravete kool
END:VEVENT
BEGIN:VEVENT
DTSTART;VALUE=DATE:20251110
DTEND;VALUE=DATE:20251124
DTSTAMP:20260422T032421
CREATED:20251105T091735Z
LAST-MODIFIED:20251117T071017Z
UID:4577-1762732800-1763942399@pohjajarvakool.ee
SUMMARY:Helkurid särama!
DESCRIPTION:10.11- 23.11 Helkurid särama! kampaania
URL:https://pohjajarvakool.ee/sundmus/helkurid-sarama/
CATEGORIES:Aravete kool
ATTACH;FMTTYPE=image/jpeg:https://pohjajarvakool.ee/wp-content/uploads/2025/11/helkur.jpg
END:VEVENT
BEGIN:VEVENT
DTSTART;TZID=Europe/Tallinn:20251110T083000
DTEND;TZID=Europe/Tallinn:20251114T150000
DTSTAMP:20260422T032421
CREATED:20251105T091317Z
LAST-MODIFIED:20251105T091317Z
UID:4575-1762763400-1763132400@pohjajarvakool.ee
SUMMARY:Kombenädal
DESCRIPTION:10.11- 14.11 Kombenädal \n10.11 mardipäev
URL:https://pohjajarvakool.ee/sundmus/kombenadal/
CATEGORIES:Aravete kool
END:VEVENT
BEGIN:VEVENT
DTSTART;TZID=Europe/Tallinn:20251111T083000
DTEND;TZID=Europe/Tallinn:20251111T150000
DTSTAMP:20260422T032421
CREATED:20251105T090913Z
LAST-MODIFIED:20251105T090913Z
UID:4571-1762849800-1762873200@pohjajarvakool.ee
SUMMARY:7.-9. klassi väljasõit Kiidjärvele
DESCRIPTION:KIK projekti väljasõit. 7.-9. klass Kiidjärve RMK  \nMillest jutustavad aastarõngad?
URL:https://pohjajarvakool.ee/sundmus/7-9-klassi-valjasoit-kiidjarvele/
CATEGORIES:Aravete kool
END:VEVENT
BEGIN:VEVENT
DTSTART;TZID=Europe/Tallinn:20251112T083000
DTEND;TZID=Europe/Tallinn:20251112T170000
DTSTAMP:20260422T032421
CREATED:20251031T112150Z
LAST-MODIFIED:20251031T112150Z
UID:4563-1762936200-1762966800@pohjajarvakool.ee
SUMMARY:Järvamaa koolide 4.-5. klassi rahvastepalli MV Türil
DESCRIPTION:
URL:https://pohjajarvakool.ee/sundmus/jarvamaa-koolide-4-5-klassi-rahvastepalli-mv-turil/
CATEGORIES:Albu kool
END:VEVENT
BEGIN:VEVENT
DTSTART;TZID=Europe/Tallinn:20251113T083000
DTEND;TZID=Europe/Tallinn:20251113T170000
DTSTAMP:20260422T032421
CREATED:20251031T112311Z
LAST-MODIFIED:20251031T112311Z
UID:4565-1763022600-1763053200@pohjajarvakool.ee
SUMMARY:1.-4. klassi Politseimuuseumi külastus
DESCRIPTION:
URL:https://pohjajarvakool.ee/sundmus/1-4-klassi-politseimuuseumi-kulastus/
CATEGORIES:Albu kool
END:VEVENT
BEGIN:VEVENT
DTSTART;TZID=Europe/Tallinn:20251117T080000
DTEND;TZID=Europe/Tallinn:20251121T150000
DTSTAMP:20260422T032421
CREATED:20251117T070905Z
LAST-MODIFIED:20251117T070905Z
UID:4642-1763366400-1763737200@pohjajarvakool.ee
SUMMARY:Sallivuse nädal
DESCRIPTION:Sallivus tähendab valmisolekut mõista ja austada teisi inimesi\, isegi siis\, kui nad on meist erinevad – olgu välimuse\, arvamuste\, kultuuri või eluviisi poolest. Sallivus on tähtis\, sest see aitab luua rahulikumat ja turvalisemat ühiskonda\, kus inimesed saavad üksteisega arvestada\, koostööd teha ja konfliktidest kergemini üle saada.
URL:https://pohjajarvakool.ee/sundmus/sallivuse-nadal/
LOCATION:Aravete kool
CATEGORIES:Aravete kool
END:VEVENT
BEGIN:VEVENT
DTSTART;VALUE=DATE:20251119
DTEND;VALUE=DATE:20251120
DTSTAMP:20260422T032421
CREATED:20251113T091511Z
LAST-MODIFIED:20251113T091511Z
UID:4629-1763510400-1763596799@pohjajarvakool.ee
SUMMARY:Meestepäev
DESCRIPTION:19. novembril tähistatakse rahvusvahelist meestepäeva.\n\n\nSel puhul kutsub Albu kooli õpilasesindus kõiki üles lõbusalt kaasa lööma:\n Riietu mõne tuntud mehe\, filmitegelase\, multikakangelase või kuulsuse kostüümi!\nKõige silmapaistvamad ja loovamad riietused saavad ka tunnustuse osaliseks.
URL:https://pohjajarvakool.ee/sundmus/meestepaev/
LOCATION:Albu kool
CATEGORIES:Albu kool
ATTACH;FMTTYPE=image/png:https://pohjajarvakool.ee/wp-content/uploads/2025/11/Beige-Minimalist-Photography-Flyer-1.png
END:VEVENT
BEGIN:VEVENT
DTSTART;TZID=Europe/Tallinn:20251119T090000
DTEND;TZID=Europe/Tallinn:20251119T150000
DTSTAMP:20260422T032421
CREATED:20251117T071206Z
LAST-MODIFIED:20251117T071206Z
UID:4645-1763542800-1763564400@pohjajarvakool.ee
SUMMARY:Meestepäev
DESCRIPTION:Tähistame meestepäeva.  Täna on päev\, mil tunnustame kõiki mehi  – teie jõudu\, hoolivust ja seda erilist energiat\, mis maailma liikumise hoiab!
URL:https://pohjajarvakool.ee/sundmus/meestepaev-2/
CATEGORIES:Aravete kool
END:VEVENT
BEGIN:VEVENT
DTSTART;TZID=Europe/Tallinn:20251124T090000
DTEND;TZID=Europe/Tallinn:20251128T150000
DTSTAMP:20260422T032421
CREATED:20251117T074339Z
LAST-MODIFIED:20251117T074518Z
UID:4651-1763974800-1764342000@pohjajarvakool.ee
SUMMARY:Advendiaja alguse nädal
DESCRIPTION:Algab jõuluootus. Kaunistame koolimaja ja klassid.
URL:https://pohjajarvakool.ee/sundmus/advendiaja-alguse-nadal/
LOCATION:Aravete kool
CATEGORIES:Aravete kool
END:VEVENT
BEGIN:VEVENT
DTSTART;TZID=Europe/Tallinn:20251124T130000
DTEND;TZID=Europe/Tallinn:20251124T140000
DTSTAMP:20260422T032421
CREATED:20251113T092546Z
LAST-MODIFIED:20251113T092546Z
UID:4632-1763989200-1763992800@pohjajarvakool.ee
SUMMARY:Kadripäeva moeshow
DESCRIPTION:Sellel aastal tähistame Kadripäeva moodsas võtmes\, ühendades rahvatraditsioonid loovusega.\n\n\nMoeshow annab õpilastele võimaluse:\n– uurida ja väärtustada Eesti rahvakalendri traditsioone\,\n– arendada loovust ja meeskonnatööd\,\n– kasvatada esinemisjulgust.\n\n\nKõik klassid saavad võimaluse luua uusi Kadripäeva moetrende:\n– valitakse stiil ja kostüümid\n– mõeldakse kollektsioonile nimi ja lühike tutvustus\n– valitakse sobiv taustamuusika\n– esitletakse oma kollektsioone teistele õpilastele
URL:https://pohjajarvakool.ee/sundmus/kadripaeva-moeshow/
LOCATION:Albu kool
CATEGORIES:Albu kool
ATTACH;FMTTYPE=image/png:https://pohjajarvakool.ee/wp-content/uploads/2025/11/Kadripaevaion.png
END:VEVENT
BEGIN:VEVENT
DTSTART;TZID=Europe/Tallinn:20251128T120000
DTEND;TZID=Europe/Tallinn:20251128T120000
DTSTAMP:20260422T032421
CREATED:20251126T085333Z
LAST-MODIFIED:20251126T085533Z
UID:4655-1764331200-1764331200@pohjajarvakool.ee
SUMMARY:Albu kooli muusikaaia avamine
DESCRIPTION:Albu kooli õuel 28. november kell 12.00\nTähistame koos olulist sammu meie kooli ja kogukonna elus! Uus\nmuusikaaed pakub õpilastele ainulaadse võimaluse õppida muusikat\nlooduses\, mängides erinevatel õueinstrumentidel arendades meeltega\ntajumist ja loovust.\nMuusikaaed toetab meie kooli arengut ja õpilaste loovuse edendamist\nläbi toetavate ning innovaatiliste õpikeskkondade loomise. \n  \nMuusikaaia rajamine sai võimalikuks tänu Euroopa Sotsiaalfondi Kaasava hariduse rahastamise meetmele ja Järva vallale.
URL:https://pohjajarvakool.ee/sundmus/albu-kooli-muusikaaia-avamine/
CATEGORIES:Albu kool
ATTACH;FMTTYPE=image/png:https://pohjajarvakool.ee/wp-content/uploads/2025/11/Kuvatommis-2025-11-26-104831.png
END:VEVENT
BEGIN:VEVENT
DTSTART;TZID=Europe/Tallinn:20251130T150000
DTEND;TZID=Europe/Tallinn:20251130T170000
DTSTAMP:20260422T032421
CREATED:20251117T071822Z
LAST-MODIFIED:20251117T074230Z
UID:4648-1764514800-1764522000@pohjajarvakool.ee
SUMMARY:Advendilaat Aravete koolis
DESCRIPTION:Tule ja saa osa jõulueelsest rõõmust! \nAravete kooli ees 30. novembril kell 15.00- 17.00
URL:https://pohjajarvakool.ee/sundmus/advendilaat-aravete-koolis/
LOCATION:Aravete kool
CATEGORIES:Aravete kool
ATTACH;FMTTYPE=image/jpeg:https://pohjajarvakool.ee/wp-content/uploads/2025/11/advendilaat.jpg
END:VEVENT
END:VCALENDAR