BEGIN:VCALENDAR
VERSION:2.0
PRODID:-//Põhja-Järva Kool - ECPv6.15.18//NONSGML v1.0//EN
CALSCALE:GREGORIAN
METHOD:PUBLISH
X-WR-CALNAME:Põhja-Järva Kool
X-ORIGINAL-URL:https://pohjajarvakool.ee
X-WR-CALDESC:Events for Põhja-Järva Kool
REFRESH-INTERVAL;VALUE=DURATION:PT1H
X-Robots-Tag:noindex
X-PUBLISHED-TTL:PT1H
BEGIN:VTIMEZONE
TZID:Europe/Tallinn
BEGIN:DAYLIGHT
TZOFFSETFROM:+0200
TZOFFSETTO:+0300
TZNAME:EEST
DTSTART:20240331T010000
END:DAYLIGHT
BEGIN:STANDARD
TZOFFSETFROM:+0300
TZOFFSETTO:+0200
TZNAME:EET
DTSTART:20241027T010000
END:STANDARD
BEGIN:DAYLIGHT
TZOFFSETFROM:+0200
TZOFFSETTO:+0300
TZNAME:EEST
DTSTART:20250330T010000
END:DAYLIGHT
BEGIN:STANDARD
TZOFFSETFROM:+0300
TZOFFSETTO:+0200
TZNAME:EET
DTSTART:20251026T010000
END:STANDARD
BEGIN:DAYLIGHT
TZOFFSETFROM:+0200
TZOFFSETTO:+0300
TZNAME:EEST
DTSTART:20260329T010000
END:DAYLIGHT
BEGIN:STANDARD
TZOFFSETFROM:+0300
TZOFFSETTO:+0200
TZNAME:EET
DTSTART:20261025T010000
END:STANDARD
BEGIN:DAYLIGHT
TZOFFSETFROM:+0200
TZOFFSETTO:+0300
TZNAME:EEST
DTSTART:20270328T010000
END:DAYLIGHT
BEGIN:STANDARD
TZOFFSETFROM:+0300
TZOFFSETTO:+0200
TZNAME:EET
DTSTART:20271031T010000
END:STANDARD
END:VTIMEZONE
BEGIN:VEVENT
DTSTART;TZID=Europe/Tallinn:20260205T123000
DTEND;TZID=Europe/Tallinn:20260205T130000
DTSTAMP:20260421T215508
CREATED:20260204T144942Z
LAST-MODIFIED:20260204T152543Z
UID:4798-1770294600-1770296400@pohjajarvakool.ee
SUMMARY:39 päevaga üle Atlandi
DESCRIPTION:5. veebruaril  tuleb oma seiklusest rääkima Kait Kaarel Puss.
URL:https://pohjajarvakool.ee/sundmus/39-paevaga-ule-atlandi/
LOCATION:Aravete kool
CATEGORIES:Aravete kool
END:VEVENT
BEGIN:VEVENT
DTSTART;TZID=Europe/Tallinn:20260130T100000
DTEND;TZID=Europe/Tallinn:20260130T160000
DTSTAMP:20260421T215508
CREATED:20260105T132346Z
LAST-MODIFIED:20260105T140109Z
UID:4758-1769767200-1769788800@pohjajarvakool.ee
SUMMARY:XXIII HANSENIST TAMMSAARENI VÕISTULUGEMINE
DESCRIPTION:Ootame kõiki 4. -12. klassi õpilasi osalema! \nPalume võistlusele registreeruda hiljemalt 25. jaanuaril 2026. a \nRegistreerumise link
URL:https://pohjajarvakool.ee/sundmus/xxiii-hansenist-tammsaareni-voistulugemine/
LOCATION:Albu kool
CATEGORIES:Albu kool
ATTACH;FMTTYPE=image/jpeg:https://pohjajarvakool.ee/wp-content/uploads/2025/12/tammsaare_26_plakat.jpg
END:VEVENT
BEGIN:VEVENT
DTSTART;TZID=Europe/Tallinn:20260130T093000
DTEND;TZID=Europe/Tallinn:20260130T130000
DTSTAMP:20260421T215508
CREATED:20260129T074736Z
LAST-MODIFIED:20260129T074736Z
UID:4786-1769765400-1769778000@pohjajarvakool.ee
SUMMARY:Suusapäev Valgehobusemäel
DESCRIPTION:Suusapäeva ajakava:\n9.15- start Albu rahvamaja eest\n9.30- tervitus\, päevakava tutvustus\, suusavarustuse valmispanek\n10.00- 1.-3.klass suusatund\, 4.-6.klass vabal valikul aktiivne sportlik tegevus\, 7.kl ja 9.kl suusatamine radadel\n11.00- 1.-3.klass vabal valikul aktiivne sportlik tegevus\, 4.-6.klass suusatund\, 7.kl ja 9.kl vabal valikul aktiivne sportlik tegevus\n12.00- lõuna ja varustuse kokku pakkimine\n13.00- Buss tagasi Alpu \nBuss toob tagasi Albu rahvamaja juurde\, koju saab 14.40 bussiga. \nVabal valikul aktiivne sportlik tegevus: võimalusel oma taskuraha kaasa\, kui soovid kasutada tasulisi teenuseid (lumerõngas\, lumelaud\, mäesuusad\, uisud).\nJärva valla lastele kehtivad soodushinnad:\n-Lumerõngarada 10 eurot/tund\n-Mäepilet 8 eurot/tund (+varustus) \nKes ei soovi tasulisi teenuseid kasutada\, siis võta kaasa kelk\, võimalus lustida kelgumäel. Kooli poolt tagatakse kõigile murdmaasuusavarustus kogu päevaks.
URL:https://pohjajarvakool.ee/sundmus/suusapaev-valgehobusemael-2/
CATEGORIES:Albu kool
END:VEVENT
BEGIN:VEVENT
DTSTART;TZID=Europe/Tallinn:20260127T120000
DTEND;TZID=Europe/Tallinn:20260127T130000
DTSTAMP:20260421T215508
CREATED:20260108T090940Z
LAST-MODIFIED:20260108T090940Z
UID:4765-1769515200-1769518800@pohjajarvakool.ee
SUMMARY:Tammsaare võistulugemise kooli voor
DESCRIPTION:27.01. kell 12.00 \nVII-IX klass.
URL:https://pohjajarvakool.ee/sundmus/tammsaare-voistulugemise-kooli-voor/
LOCATION:Albu kool
CATEGORIES:Albu kool
END:VEVENT
BEGIN:VEVENT
DTSTART;TZID=Europe/Tallinn:20260126T084000
DTEND;TZID=Europe/Tallinn:20260130T150000
DTSTAMP:20260421T215508
CREATED:20260104T113045Z
LAST-MODIFIED:20260104T113348Z
UID:4745-1769416800-1769785200@pohjajarvakool.ee
SUMMARY:Eesti kirjanduse nädal
DESCRIPTION:26.01-30.01 Eesti kirjanduse nädal \nEesti kirjandusele ja kirjanikele pühendatud nädal \n30.01 Eesti kirjandustegelaste karneval. Stiilipäev
URL:https://pohjajarvakool.ee/sundmus/eesti-kirjanduse-nadal/
LOCATION:Aravete kool
CATEGORIES:Aravete kool
ATTACH;FMTTYPE=image/png:https://pohjajarvakool.ee/wp-content/uploads/2026/01/Kirjanduse-nadal-ar.png
END:VEVENT
BEGIN:VEVENT
DTSTART;TZID=Europe/Tallinn:20260126T080000
DTEND;TZID=Europe/Tallinn:20260131T170000
DTSTAMP:20260421T215508
CREATED:20260126T121621Z
LAST-MODIFIED:20260128T070745Z
UID:4772-1769414400-1769878800@pohjajarvakool.ee
SUMMARY:Eesti kirjanduse pidunädal
DESCRIPTION:EESTI KIRJANDUSE PIDUNÄDAL ALBU KOOLIS \nEesti kirjandusele pühendatud nädal. \n\n\n\n\n27. JAANUAR kell 12.00 – Tammsaare võistulugemine koolivoor\, VI-IX klass \n\n\n\n29. JAANUAR kell 11.00-15.00 – “Tõde ja õigus ” pidunädala kirjanduskonverents Koerus\, IX klass \n\n\n\n30. JAANUAR kell 11.00 – Võistulugemine Hansenist Tammsaareni \n\n\n\n\n31. JAANUAR kell 10.00 –  Tammsaare nimeline rahvamatk Järva-Madise Wallamaja eest
URL:https://pohjajarvakool.ee/sundmus/eesti-kirjanduse-pidunadal-3/
CATEGORIES:Albu kool
ATTACH;FMTTYPE=image/jpeg:https://pohjajarvakool.ee/wp-content/uploads/2026/01/XXII-HANSENIST-TAMMSAARENI-eesti-raamatu-aastal.jpg
END:VEVENT
BEGIN:VEVENT
DTSTART;TZID=Europe/Tallinn:20260119T084000
DTEND;TZID=Europe/Tallinn:20260123T150000
DTSTAMP:20260421T215508
CREATED:20260104T113604Z
LAST-MODIFIED:20260104T113604Z
UID:4749-1768812000-1769180400@pohjajarvakool.ee
SUMMARY:Aasta tegija looduses
DESCRIPTION:19.01-23.01 „Aasta tegija looduses“ \n„Aasta tegijad looduses 2026“ plakatite valmistamine
URL:https://pohjajarvakool.ee/sundmus/aasta-tegija-looduses/
LOCATION:Aravete kool
CATEGORIES:Aravete kool
END:VEVENT
BEGIN:VEVENT
DTSTART;TZID=Europe/Tallinn:20260119T080000
DTEND;TZID=Europe/Tallinn:20260123T170000
DTSTAMP:20260421T215508
CREATED:20260108T091340Z
LAST-MODIFIED:20260121T122833Z
UID:4767-1768809600-1769187600@pohjajarvakool.ee
SUMMARY:Karjäärinädal "põnevad ametid ja hobid"
DESCRIPTION:KÜLALISESINEJAD KOOLIS:\n\n\n19. jaanuar \nAnne-Mari Matsi\, kes tegeleb rammuspordiga juba peaaegu viis aastat\, on käinud rohkem kui kahekümnel võistlusel ja on 2025. aasta naiste arvestuses Eesti meister.\nRammusport on jõuspordiala\, kus sportlased võistlevad äärmusliku jõu ja vastupidavuse proovikivides\, nagu väga raskete esemete tõstmine\, kandmine või lohistamine. See ala nõuab lisaks toorele jõule ka head tehnikat\, vaimset sitkust ja vastupidavust.\n21. jaanuar \nEster Valdvee\, kelle hobiks on linnuvaatlus. Lindudest on Ester huvitunud juba ülikooli ajast\, kuid unistus lindudest rohkem teada saada sai teoks 28 aastat tagasi Eesti ornitoloogiaühingusse astudes.\n22. jaanuar\nKaspar Kaldjärv “Amet kui hobi\, hobi kui amet”.
URL:https://pohjajarvakool.ee/sundmus/karjaarinadal/
LOCATION:Albu kool
CATEGORIES:Albu kool
ATTACH;FMTTYPE=image/jpeg:https://pohjajarvakool.ee/wp-content/uploads/2026/01/s.jpg
END:VEVENT
BEGIN:VEVENT
DTSTART;TZID=Europe/Tallinn:20260112T084000
DTEND;TZID=Europe/Tallinn:20260116T150000
DTSTAMP:20260421T215508
CREATED:20251230T101326Z
LAST-MODIFIED:20251230T101408Z
UID:4742-1768207200-1768575600@pohjajarvakool.ee
SUMMARY:Teadusnädal
DESCRIPTION:12.01-16.01 Teadusnädal \nTeadusnädala jooksul arendatakse loovust\, kriitilist mõtlemist ja meeskonnatööd\, sidudes teadust igapäevaeluga.
URL:https://pohjajarvakool.ee/sundmus/teadusnadal/
LOCATION:Aravete kool
CATEGORIES:Aravete kool
END:VEVENT
BEGIN:VEVENT
DTSTART;TZID=Europe/Tallinn:20251219T170000
DTEND;TZID=Europe/Tallinn:20251219T183000
DTSTAMP:20260421T215508
CREATED:20251208T102116Z
LAST-MODIFIED:20251217T093839Z
UID:4685-1766163600-1766169000@pohjajarvakool.ee
SUMMARY:Jõulupidu
DESCRIPTION:Ootame kõiki 19. detsembril  kell 17.00 vaatama meie jõuluetendust.
URL:https://pohjajarvakool.ee/sundmus/joulupidu-2/
LOCATION:Aravete kool
CATEGORIES:Aravete kool
ATTACH;FMTTYPE=image/jpeg:https://pohjajarvakool.ee/wp-content/uploads/2025/12/Jouluetendus.jpg
END:VEVENT
BEGIN:VEVENT
DTSTART;VALUE=DATE:20251219
DTEND;VALUE=DATE:20251220
DTSTAMP:20260421T215508
CREATED:20251211T115540Z
LAST-MODIFIED:20251211T115613Z
UID:4692-1766102400-1766188799@pohjajarvakool.ee
SUMMARY:Jõulupäev
DESCRIPTION:Veedame üheskoos toreda jõulupäeva. \n11.00 kiriku külastus\n11.45 pidulik lõunasöök\n12.30 jõulupidu
URL:https://pohjajarvakool.ee/sundmus/joulupaev/
CATEGORIES:Albu kool
END:VEVENT
BEGIN:VEVENT
DTSTART;VALUE=DATE:20251218
DTEND;VALUE=DATE:20251219
DTSTAMP:20260421T215508
CREATED:20251211T115326Z
LAST-MODIFIED:20251211T115326Z
UID:4690-1766016000-1766102399@pohjajarvakool.ee
SUMMARY:Jõulukampsuni päev
DESCRIPTION:Õpilasesindus kutsub!\nPane selga tore jõulukampsun ja veedame päeva üheskoos jõulukampsunites.
URL:https://pohjajarvakool.ee/sundmus/joulukampsuni-paev-2/
CATEGORIES:Albu kool
END:VEVENT
BEGIN:VEVENT
DTSTART;TZID=Europe/Tallinn:20251217T090000
DTEND;TZID=Europe/Tallinn:20251217T143000
DTSTAMP:20260421T215508
CREATED:20251211T114146Z
LAST-MODIFIED:20251211T114146Z
UID:4687-1765962000-1765981800@pohjajarvakool.ee
SUMMARY:Piparkoogipall
DESCRIPTION:17. detsembril lähevad pallid mängu ning loodetavasti täitub rahvamaja ka piparkoogilõhnaga!Juhend Stuudiumi kalendris!
URL:https://pohjajarvakool.ee/sundmus/piparkoogipall-2/
LOCATION:Albu rahvamaja
CATEGORIES:Albu kool
ATTACH;FMTTYPE=image/jpeg:https://pohjajarvakool.ee/wp-content/uploads/2025/12/piparkoogipall.jpg
END:VEVENT
BEGIN:VEVENT
DTSTART;TZID=Europe/Tallinn:20251216T084000
DTEND;TZID=Europe/Tallinn:20251216T150000
DTSTAMP:20260421T215508
CREATED:20251128T122044Z
LAST-MODIFIED:20251128T122141Z
UID:4674-1765874400-1765897200@pohjajarvakool.ee
SUMMARY:"Koleda" jõulukampsuni päev
DESCRIPTION:Detsembrikuu kolmas reede on rahvusvaheline jõulukampsuni päev\, mis mujal maailmas on tuntud ka kui koleda jõulukampsuni päev. Koleda jõulukampsuni päev peegeldab inimeste armastust huumori ja heategude vastu.
URL:https://pohjajarvakool.ee/sundmus/koleda-joulukampsuni-paev/
CATEGORIES:Aravete kool
ATTACH;FMTTYPE=image/jpeg:https://pohjajarvakool.ee/wp-content/uploads/2025/11/kampsun.jpg
END:VEVENT
BEGIN:VEVENT
DTSTART;TZID=Europe/Tallinn:20251215T080000
DTEND;TZID=Europe/Tallinn:20251219T170000
DTSTAMP:20260421T215508
CREATED:20251128T122653Z
LAST-MODIFIED:20251128T122725Z
UID:4680-1765785600-1766163600@pohjajarvakool.ee
SUMMARY:Päkapikunädal
DESCRIPTION:15.12 – 19.12 Päkapikunädal
URL:https://pohjajarvakool.ee/sundmus/pakapikunadal/
LOCATION:Aravete kool
CATEGORIES:Aravete kool
END:VEVENT
BEGIN:VEVENT
DTSTART;TZID=Europe/Tallinn:20251208T170000
DTEND;TZID=Europe/Tallinn:20251208T190000
DTSTAMP:20260421T215508
CREATED:20251113T120928Z
LAST-MODIFIED:20251113T120947Z
UID:4639-1765213200-1765220400@pohjajarvakool.ee
SUMMARY:Advendiõhtu & jõululaat
DESCRIPTION:Tule koos pere ja sõpradega nautima jõulueelset meeleolu ja sooja koosolemist!\nAvatud on jõululaat\, kus saab soetada õpilaste ja kogukonna valmistatud kingitusi\, käsitööd ja maiustusi.
URL:https://pohjajarvakool.ee/sundmus/advendiohtu-joululaat/
LOCATION:Albu rahvamaja
CATEGORIES:Albu kool
ATTACH;FMTTYPE=image/png:https://pohjajarvakool.ee/wp-content/uploads/2025/11/advendiohtu.png
END:VEVENT
BEGIN:VEVENT
DTSTART;TZID=Europe/Tallinn:20251208T084000
DTEND;TZID=Europe/Tallinn:20251212T150000
DTSTAMP:20260421T215508
CREATED:20251128T122446Z
LAST-MODIFIED:20251128T122519Z
UID:4677-1765183200-1765551600@pohjajarvakool.ee
SUMMARY:Inimõiguste nädal
DESCRIPTION:08.12-12.12 Inimõiguste nädal: Minu õigused ja minu kohustused \nPöörame tähelepanu inimeste õigustele ja kohustustele. \n10.12 Inimõiguste päev
URL:https://pohjajarvakool.ee/sundmus/inimoiguste-nadal/
LOCATION:Aravete kool
CATEGORIES:Aravete kool
END:VEVENT
BEGIN:VEVENT
DTSTART;TZID=Europe/Tallinn:20251201T084000
DTEND;TZID=Europe/Tallinn:20251201T090000
DTSTAMP:20260421T215508
CREATED:20251128T120421Z
LAST-MODIFIED:20251128T121646Z
UID:4664-1764578400-1764579600@pohjajarvakool.ee
SUMMARY:Laternamatk
DESCRIPTION:1.-6. klass. Matk algab 8.40 lasteaia juurest. \nVõta kaasa oma latern!
URL:https://pohjajarvakool.ee/sundmus/laternamatk-2/
LOCATION:Aravete kool
CATEGORIES:Aravete kool
ATTACH;FMTTYPE=image/jpeg:https://pohjajarvakool.ee/wp-content/uploads/2025/11/laternamatk.jpg
END:VEVENT
BEGIN:VEVENT
DTSTART;TZID=Europe/Tallinn:20251201T080000
DTEND;TZID=Europe/Tallinn:20251205T150000
DTSTAMP:20260421T215508
CREATED:20251128T121114Z
LAST-MODIFIED:20251208T100212Z
UID:4668-1764576000-1764946800@pohjajarvakool.ee
SUMMARY:Südamesoojuse ja headuse nädal
DESCRIPTION:01.12-05.12 Südamesoojuse ja headuse nädal: Õpime jagama headust.
URL:https://pohjajarvakool.ee/sundmus/sudamesoojuse-ja-headuse-nadal/
LOCATION:Aravete kool
CATEGORIES:Aravete kool
END:VEVENT
BEGIN:VEVENT
DTSTART;TZID=Europe/Tallinn:20251130T150000
DTEND;TZID=Europe/Tallinn:20251130T170000
DTSTAMP:20260421T215508
CREATED:20251117T071822Z
LAST-MODIFIED:20251117T074230Z
UID:4648-1764514800-1764522000@pohjajarvakool.ee
SUMMARY:Advendilaat Aravete koolis
DESCRIPTION:Tule ja saa osa jõulueelsest rõõmust! \nAravete kooli ees 30. novembril kell 15.00- 17.00
URL:https://pohjajarvakool.ee/sundmus/advendilaat-aravete-koolis/
LOCATION:Aravete kool
CATEGORIES:Aravete kool
ATTACH;FMTTYPE=image/jpeg:https://pohjajarvakool.ee/wp-content/uploads/2025/11/advendilaat.jpg
END:VEVENT
BEGIN:VEVENT
DTSTART;TZID=Europe/Tallinn:20251128T120000
DTEND;TZID=Europe/Tallinn:20251128T120000
DTSTAMP:20260421T215508
CREATED:20251126T085333Z
LAST-MODIFIED:20251126T085533Z
UID:4655-1764331200-1764331200@pohjajarvakool.ee
SUMMARY:Albu kooli muusikaaia avamine
DESCRIPTION:Albu kooli õuel 28. november kell 12.00\nTähistame koos olulist sammu meie kooli ja kogukonna elus! Uus\nmuusikaaed pakub õpilastele ainulaadse võimaluse õppida muusikat\nlooduses\, mängides erinevatel õueinstrumentidel arendades meeltega\ntajumist ja loovust.\nMuusikaaed toetab meie kooli arengut ja õpilaste loovuse edendamist\nläbi toetavate ning innovaatiliste õpikeskkondade loomise. \n  \nMuusikaaia rajamine sai võimalikuks tänu Euroopa Sotsiaalfondi Kaasava hariduse rahastamise meetmele ja Järva vallale.
URL:https://pohjajarvakool.ee/sundmus/albu-kooli-muusikaaia-avamine/
CATEGORIES:Albu kool
ATTACH;FMTTYPE=image/png:https://pohjajarvakool.ee/wp-content/uploads/2025/11/Kuvatommis-2025-11-26-104831.png
END:VEVENT
BEGIN:VEVENT
DTSTART;TZID=Europe/Tallinn:20251124T130000
DTEND;TZID=Europe/Tallinn:20251124T140000
DTSTAMP:20260421T215508
CREATED:20251113T092546Z
LAST-MODIFIED:20251113T092546Z
UID:4632-1763989200-1763992800@pohjajarvakool.ee
SUMMARY:Kadripäeva moeshow
DESCRIPTION:Sellel aastal tähistame Kadripäeva moodsas võtmes\, ühendades rahvatraditsioonid loovusega.\n\n\nMoeshow annab õpilastele võimaluse:\n– uurida ja väärtustada Eesti rahvakalendri traditsioone\,\n– arendada loovust ja meeskonnatööd\,\n– kasvatada esinemisjulgust.\n\n\nKõik klassid saavad võimaluse luua uusi Kadripäeva moetrende:\n– valitakse stiil ja kostüümid\n– mõeldakse kollektsioonile nimi ja lühike tutvustus\n– valitakse sobiv taustamuusika\n– esitletakse oma kollektsioone teistele õpilastele
URL:https://pohjajarvakool.ee/sundmus/kadripaeva-moeshow/
LOCATION:Albu kool
CATEGORIES:Albu kool
ATTACH;FMTTYPE=image/png:https://pohjajarvakool.ee/wp-content/uploads/2025/11/Kadripaevaion.png
END:VEVENT
BEGIN:VEVENT
DTSTART;TZID=Europe/Tallinn:20251124T090000
DTEND;TZID=Europe/Tallinn:20251128T150000
DTSTAMP:20260421T215508
CREATED:20251117T074339Z
LAST-MODIFIED:20251117T074518Z
UID:4651-1763974800-1764342000@pohjajarvakool.ee
SUMMARY:Advendiaja alguse nädal
DESCRIPTION:Algab jõuluootus. Kaunistame koolimaja ja klassid.
URL:https://pohjajarvakool.ee/sundmus/advendiaja-alguse-nadal/
LOCATION:Aravete kool
CATEGORIES:Aravete kool
END:VEVENT
BEGIN:VEVENT
DTSTART;TZID=Europe/Tallinn:20251119T090000
DTEND;TZID=Europe/Tallinn:20251119T150000
DTSTAMP:20260421T215508
CREATED:20251117T071206Z
LAST-MODIFIED:20251117T071206Z
UID:4645-1763542800-1763564400@pohjajarvakool.ee
SUMMARY:Meestepäev
DESCRIPTION:Tähistame meestepäeva.  Täna on päev\, mil tunnustame kõiki mehi  – teie jõudu\, hoolivust ja seda erilist energiat\, mis maailma liikumise hoiab!
URL:https://pohjajarvakool.ee/sundmus/meestepaev-2/
CATEGORIES:Aravete kool
END:VEVENT
BEGIN:VEVENT
DTSTART;VALUE=DATE:20251119
DTEND;VALUE=DATE:20251120
DTSTAMP:20260421T215508
CREATED:20251113T091511Z
LAST-MODIFIED:20251113T091511Z
UID:4629-1763510400-1763596799@pohjajarvakool.ee
SUMMARY:Meestepäev
DESCRIPTION:19. novembril tähistatakse rahvusvahelist meestepäeva.\n\n\nSel puhul kutsub Albu kooli õpilasesindus kõiki üles lõbusalt kaasa lööma:\n Riietu mõne tuntud mehe\, filmitegelase\, multikakangelase või kuulsuse kostüümi!\nKõige silmapaistvamad ja loovamad riietused saavad ka tunnustuse osaliseks.
URL:https://pohjajarvakool.ee/sundmus/meestepaev/
LOCATION:Albu kool
CATEGORIES:Albu kool
ATTACH;FMTTYPE=image/png:https://pohjajarvakool.ee/wp-content/uploads/2025/11/Beige-Minimalist-Photography-Flyer-1.png
END:VEVENT
BEGIN:VEVENT
DTSTART;TZID=Europe/Tallinn:20251117T080000
DTEND;TZID=Europe/Tallinn:20251121T150000
DTSTAMP:20260421T215508
CREATED:20251117T070905Z
LAST-MODIFIED:20251117T070905Z
UID:4642-1763366400-1763737200@pohjajarvakool.ee
SUMMARY:Sallivuse nädal
DESCRIPTION:Sallivus tähendab valmisolekut mõista ja austada teisi inimesi\, isegi siis\, kui nad on meist erinevad – olgu välimuse\, arvamuste\, kultuuri või eluviisi poolest. Sallivus on tähtis\, sest see aitab luua rahulikumat ja turvalisemat ühiskonda\, kus inimesed saavad üksteisega arvestada\, koostööd teha ja konfliktidest kergemini üle saada.
URL:https://pohjajarvakool.ee/sundmus/sallivuse-nadal/
LOCATION:Aravete kool
CATEGORIES:Aravete kool
END:VEVENT
BEGIN:VEVENT
DTSTART;TZID=Europe/Tallinn:20251113T083000
DTEND;TZID=Europe/Tallinn:20251113T170000
DTSTAMP:20260421T215508
CREATED:20251031T112311Z
LAST-MODIFIED:20251031T112311Z
UID:4565-1763022600-1763053200@pohjajarvakool.ee
SUMMARY:1.-4. klassi Politseimuuseumi külastus
DESCRIPTION:
URL:https://pohjajarvakool.ee/sundmus/1-4-klassi-politseimuuseumi-kulastus/
CATEGORIES:Albu kool
END:VEVENT
BEGIN:VEVENT
DTSTART;TZID=Europe/Tallinn:20251112T083000
DTEND;TZID=Europe/Tallinn:20251112T170000
DTSTAMP:20260421T215508
CREATED:20251031T112150Z
LAST-MODIFIED:20251031T112150Z
UID:4563-1762936200-1762966800@pohjajarvakool.ee
SUMMARY:Järvamaa koolide 4.-5. klassi rahvastepalli MV Türil
DESCRIPTION:
URL:https://pohjajarvakool.ee/sundmus/jarvamaa-koolide-4-5-klassi-rahvastepalli-mv-turil/
CATEGORIES:Albu kool
END:VEVENT
BEGIN:VEVENT
DTSTART;TZID=Europe/Tallinn:20251111T083000
DTEND;TZID=Europe/Tallinn:20251111T150000
DTSTAMP:20260421T215508
CREATED:20251105T090913Z
LAST-MODIFIED:20251105T090913Z
UID:4571-1762849800-1762873200@pohjajarvakool.ee
SUMMARY:7.-9. klassi väljasõit Kiidjärvele
DESCRIPTION:KIK projekti väljasõit. 7.-9. klass Kiidjärve RMK  \nMillest jutustavad aastarõngad?
URL:https://pohjajarvakool.ee/sundmus/7-9-klassi-valjasoit-kiidjarvele/
CATEGORIES:Aravete kool
END:VEVENT
BEGIN:VEVENT
DTSTART;TZID=Europe/Tallinn:20251110T083000
DTEND;TZID=Europe/Tallinn:20251114T150000
DTSTAMP:20260421T215508
CREATED:20251105T091317Z
LAST-MODIFIED:20251105T091317Z
UID:4575-1762763400-1763132400@pohjajarvakool.ee
SUMMARY:Kombenädal
DESCRIPTION:10.11- 14.11 Kombenädal \n10.11 mardipäev
URL:https://pohjajarvakool.ee/sundmus/kombenadal/
CATEGORIES:Aravete kool
END:VEVENT
END:VCALENDAR