BEGIN:VCALENDAR
VERSION:2.0
PRODID:-//Põhja-Järva Kool - ECPv6.15.18//NONSGML v1.0//EN
CALSCALE:GREGORIAN
METHOD:PUBLISH
X-WR-CALNAME:Põhja-Järva Kool
X-ORIGINAL-URL:https://pohjajarvakool.ee
X-WR-CALDESC:Events for Põhja-Järva Kool
REFRESH-INTERVAL;VALUE=DURATION:PT1H
X-Robots-Tag:noindex
X-PUBLISHED-TTL:PT1H
BEGIN:VTIMEZONE
TZID:Europe/Tallinn
BEGIN:DAYLIGHT
TZOFFSETFROM:+0200
TZOFFSETTO:+0300
TZNAME:EEST
DTSTART:20240331T010000
END:DAYLIGHT
BEGIN:STANDARD
TZOFFSETFROM:+0300
TZOFFSETTO:+0200
TZNAME:EET
DTSTART:20241027T010000
END:STANDARD
BEGIN:DAYLIGHT
TZOFFSETFROM:+0200
TZOFFSETTO:+0300
TZNAME:EEST
DTSTART:20250330T010000
END:DAYLIGHT
BEGIN:STANDARD
TZOFFSETFROM:+0300
TZOFFSETTO:+0200
TZNAME:EET
DTSTART:20251026T010000
END:STANDARD
BEGIN:DAYLIGHT
TZOFFSETFROM:+0200
TZOFFSETTO:+0300
TZNAME:EEST
DTSTART:20260329T010000
END:DAYLIGHT
BEGIN:STANDARD
TZOFFSETFROM:+0300
TZOFFSETTO:+0200
TZNAME:EET
DTSTART:20261025T010000
END:STANDARD
END:VTIMEZONE
BEGIN:VEVENT
DTSTART;TZID=Europe/Tallinn:20250131T083000
DTEND;TZID=Europe/Tallinn:20250131T160000
DTSTAMP:20260421T115555
CREATED:20250114T143454Z
LAST-MODIFIED:20250115T094344Z
UID:3440-1738312200-1738339200@pohjajarvakool.ee
SUMMARY:Suusapäev Valgehobusemäel
DESCRIPTION:Loovtöö raames korraldavad 8. klassi õpilased Valgehobusemäel suusapäeva.
URL:https://pohjajarvakool.ee/sundmus/suusapaev-valgehobusemael/
LOCATION:Valgehobusemägi
CATEGORIES:Albu kool
END:VEVENT
END:VCALENDAR