BEGIN:VCALENDAR
VERSION:2.0
PRODID:-//Põhja-Järva Kool - ECPv6.15.18//NONSGML v1.0//EN
CALSCALE:GREGORIAN
METHOD:PUBLISH
X-WR-CALNAME:Põhja-Järva Kool
X-ORIGINAL-URL:https://pohjajarvakool.ee
X-WR-CALDESC:Events for Põhja-Järva Kool
REFRESH-INTERVAL;VALUE=DURATION:PT1H
X-Robots-Tag:noindex
X-PUBLISHED-TTL:PT1H
BEGIN:VTIMEZONE
TZID:Europe/Tallinn
BEGIN:DAYLIGHT
TZOFFSETFROM:+0200
TZOFFSETTO:+0300
TZNAME:EEST
DTSTART:20250330T010000
END:DAYLIGHT
BEGIN:STANDARD
TZOFFSETFROM:+0300
TZOFFSETTO:+0200
TZNAME:EET
DTSTART:20251026T010000
END:STANDARD
BEGIN:DAYLIGHT
TZOFFSETFROM:+0200
TZOFFSETTO:+0300
TZNAME:EEST
DTSTART:20260329T010000
END:DAYLIGHT
BEGIN:STANDARD
TZOFFSETFROM:+0300
TZOFFSETTO:+0200
TZNAME:EET
DTSTART:20261025T010000
END:STANDARD
BEGIN:DAYLIGHT
TZOFFSETFROM:+0200
TZOFFSETTO:+0300
TZNAME:EEST
DTSTART:20270328T010000
END:DAYLIGHT
BEGIN:STANDARD
TZOFFSETFROM:+0300
TZOFFSETTO:+0200
TZNAME:EET
DTSTART:20271031T010000
END:STANDARD
END:VTIMEZONE
BEGIN:VEVENT
DTSTART;TZID=Europe/Tallinn:20260507T170000
DTEND;TZID=Europe/Tallinn:20260507T183000
DTSTAMP:20260422T160804
CREATED:20260422T101009Z
LAST-MODIFIED:20260422T101009Z
UID:4969-1778173200-1778178600@pohjajarvakool.ee
SUMMARY:Emadepäeva kevadkontsert
DESCRIPTION:Saabuva emadepäeva puhul toimub meie kooli traditsiooniline kevadkontsert. \nArmsad emad ja vanaemad – see kontsert on pühendatud teile. Ootame teid kuulama\, vaatama ning osa saama meie õpilaste laulust\, tantsust ja pillimängust. Oodatud on ka kõik teised pereliikmed ja lähedased. \nEmadepäeva kevadkontserdi eesmärk on hoida au sees traditsioone ning tuua esile kooli väärtusi. Kontsert pakub õpilastele võimalust esineda\, arendada enesekindlust ning väljendada tänu ja hoolivust oma lähedaste vastu.
URL:https://pohjajarvakool.ee/sundmus/emadepaeva-kevadkontsert/
LOCATION:Albu rahvamaja
CATEGORIES:Albu kool
END:VEVENT
END:VCALENDAR